BEGIN:VCALENDAR
VERSION:2.0
PRODID:-//Les communes genevoises//Agenda//FR
NAME:Les communes genevoises
X-WR-CALNAME:Les communes genevoises
BEGIN:VTIMEZONE
TZID:Europe/Zurich
BEGIN:STANDARD
DTSTART:20251026T030000
TZOFFSETFROM:+0200
TZOFFSETTO:+0100
END:STANDARD
BEGIN:DAYLIGHT
DTSTART:20260329T010000
TZOFFSETFROM:+0100
TZOFFSETTO:+0200
END:DAYLIGHT
BEGIN:STANDARD
DTSTART:20261025T030000
TZOFFSETFROM:+0200
TZOFFSETTO:+0100
END:STANDARD
END:VTIMEZONE
BEGIN:VTIMEZONE
TZID:UTC
BEGIN:STANDARD
DTSTART:20250725T125600
TZOFFSETFROM:+0000
TZOFFSETTO:+0000
END:STANDARD
END:VTIMEZONE
BEGIN:VEVENT
UID:cf7993f2-8463-4afd-88df-62002a2ed71f-0
DTSTAMP:20260421T125600Z
SUMMARY:Projection du film \"Outgrow the System\" - Biennale (re)connecting
 .earth 2026
DESCRIPTION:Projection au cinéma Les Scala
LOCATION:Rue des Eaux-Vives 23\, 1207 Genève\, 1207 Genève\, Suisse
URL:https://www.geneve-communes.ch/agenda/projection-du-film-outgrow-system
 -biennale-reconnectingearth-2026
DTSTART;TZID=Europe/Zurich:20260528T183000
DTEND;TZID=Europe/Zurich:20260528T203000
GEO:46.204046;6.15814
X-APPLE-STRUCTURED-LOCATION;VALUE=URI;X-ADDRESS=Rue des Eaux-Vives 23\, 120
 7 Genève\, 1207 Genève\, Suisse;X-APPLE-RADIUS=72;X-TITLE=Les Scala:geo:
 46.204046,6.15814
END:VEVENT
END:VCALENDAR