BEGIN:VCALENDAR
VERSION:2.0
PRODID:-//Les communes genevoises//Agenda//FR
NAME:Les communes genevoises
X-WR-CALNAME:Les communes genevoises
BEGIN:VTIMEZONE
TZID:Europe/Zurich
BEGIN:STANDARD
DTSTART:20251026T030000
TZOFFSETFROM:+0200
TZOFFSETTO:+0100
END:STANDARD
BEGIN:DAYLIGHT
DTSTART:20260329T010000
TZOFFSETFROM:+0100
TZOFFSETTO:+0200
END:DAYLIGHT
BEGIN:STANDARD
DTSTART:20261025T030000
TZOFFSETFROM:+0200
TZOFFSETTO:+0100
END:STANDARD
END:VTIMEZONE
BEGIN:VTIMEZONE
TZID:UTC
BEGIN:STANDARD
DTSTART:20250725T125600
TZOFFSETFROM:+0000
TZOFFSETTO:+0000
END:STANDARD
END:VTIMEZONE
BEGIN:VEVENT
UID:a427fcf8-1364-4b6e-ba99-941724bd0d58-0
DTSTAMP:20260421T125600Z
SUMMARY:Atelier Biennale (re)connecting.earth - Le Léman\, une ressource i
 nestimable mais pas infinie - Association pour la sauvegarde du Léman
DESCRIPTION:Un atelier collaboratif afin de découvrir le Léman et ses pr
 écieuses ressources ainsi que les enjeux liés à leur exploitation - ave
 c l'association ASL à l'espace Léman
LOCATION:Rue des Cordiers 2\, 1207 Genève\, Suisse
URL:https://www.geneve-communes.ch/agenda/atelier-biennale-reconnectingeart
 h-le-leman-une-ressource-inestimable-mais-pas-infinie
DTSTART;TZID=Europe/Zurich:20260527T183000
DTEND;TZID=Europe/Zurich:20260527T193000
GEO:46.202433;6.16195
X-APPLE-STRUCTURED-LOCATION;VALUE=URI;X-ADDRESS=Rue des Cordiers 2\, 1207 G
 enève\, Suisse;X-APPLE-RADIUS=72;X-TITLE=Espace Léman:geo:46.202433,6.16
 195
END:VEVENT
END:VCALENDAR