BEGIN:VCALENDAR
VERSION:2.0
PRODID:-//Les communes genevoises//Agenda//FR
NAME:Les communes genevoises
X-WR-CALNAME:Les communes genevoises
BEGIN:VTIMEZONE
TZID:Europe/Zurich
BEGIN:STANDARD
DTSTART:20251026T030000
TZOFFSETFROM:+0200
TZOFFSETTO:+0100
END:STANDARD
BEGIN:DAYLIGHT
DTSTART:20260329T010000
TZOFFSETFROM:+0100
TZOFFSETTO:+0200
END:DAYLIGHT
BEGIN:STANDARD
DTSTART:20261025T030000
TZOFFSETFROM:+0200
TZOFFSETTO:+0100
END:STANDARD
END:VTIMEZONE
BEGIN:VTIMEZONE
TZID:UTC
BEGIN:STANDARD
DTSTART:20250725T125600
TZOFFSETFROM:+0000
TZOFFSETTO:+0000
END:STANDARD
END:VTIMEZONE
BEGIN:VEVENT
UID:eccf972d-ced2-4241-b0ac-adc474699982-0
DTSTAMP:20260421T125600Z
SUMMARY:Conférence \"Reconnaître les arnaques en ligne et les fake news\"
  - Permanence numérique Rive gauche
DESCRIPTION:Dans le cadre des Permanences numériques\, la Ville et OSEO or
 ganisent une conférence gratuite et sans inscription sur les arnaques et 
 les fausses informations en ligne.
LOCATION:Rue de la Terrassière 9\, 1207 Genève\, Suisse
URL:https://www.geneve-communes.ch/agenda/conference-reconnaitre-les-arnaqu
 es-en-ligne-et-les-fake-news-permanence-numerique-rive
DTSTART;TZID=Europe/Zurich:20260521T130000
DTEND;TZID=Europe/Zurich:20260521T140000
GEO:46.200324;6.159857
X-APPLE-STRUCTURED-LOCATION;VALUE=URI;X-ADDRESS=Rue de la Terrassière 9\, 
 1207 Genève\, Suisse;X-APPLE-RADIUS=72;X-TITLE=Espace Ville de Genève:ge
 o:46.200324,6.159857
END:VEVENT
END:VCALENDAR