BEGIN:VCALENDAR
VERSION:2.0
PRODID:-//Les communes genevoises//Agenda//FR
NAME:Les communes genevoises
X-WR-CALNAME:Les communes genevoises
BEGIN:VTIMEZONE
TZID:Europe/Zurich
BEGIN:STANDARD
DTSTART:20251026T030000
TZOFFSETFROM:+0200
TZOFFSETTO:+0100
END:STANDARD
BEGIN:DAYLIGHT
DTSTART:20260329T010000
TZOFFSETFROM:+0100
TZOFFSETTO:+0200
END:DAYLIGHT
BEGIN:STANDARD
DTSTART:20261025T030000
TZOFFSETFROM:+0200
TZOFFSETTO:+0100
END:STANDARD
END:VTIMEZONE
BEGIN:VTIMEZONE
TZID:UTC
BEGIN:STANDARD
DTSTART:20250725T125600
TZOFFSETFROM:+0000
TZOFFSETTO:+0000
END:STANDARD
END:VTIMEZONE
BEGIN:VEVENT
UID:0974381c-1bda-4942-8367-98cdc4774c6a-0
DTSTAMP:20260421T125600Z
SUMMARY:Visite guidée de la Biennale (re)connecting.earth 2026 avec le dir
 ecteur artistique
DESCRIPTION:Deux visites guidées de la Biennale sont données par le direc
 teur artistique Bernard Vienat
LOCATION:Esplanade Alice-BAILLY 1\, 1207 Genève\, 1208 Genève\, Suisse
URL:https://www.geneve-communes.ch/agenda/visite-guidee-de-la-biennale-reco
 nnectingearth-2026-avec-le-directeur-artistique
DTSTART;TZID=Europe/Zurich:20260502T110000
DTEND;TZID=Europe/Zurich:20260502T130000
GEO:46.200954;6.165609
X-APPLE-STRUCTURED-LOCATION;VALUE=URI;X-ADDRESS=Esplanade Alice-BAILLY 1\, 
 1207 Genève\, 1208 Genève\, Suisse;X-APPLE-RADIUS=72;X-TITLE=La Comédie
  de Genève:geo:46.200954,6.165609
END:VEVENT
BEGIN:VEVENT
UID:0974381c-1bda-4942-8367-98cdc4774c6a-1
DTSTAMP:20260421T125600Z
SUMMARY:Visite guidée de la Biennale (re)connecting.earth 2026 avec le dir
 ecteur artistique
DESCRIPTION:Deux visites guidées de la Biennale sont données par le direc
 teur artistique Bernard Vienat
LOCATION:Esplanade Alice-BAILLY 1\, 1207 Genève\, 1208 Genève\, Suisse
URL:https://www.geneve-communes.ch/agenda/visite-guidee-de-la-biennale-reco
 nnectingearth-2026-avec-le-directeur-artistique
DTSTART;TZID=Europe/Zurich:20260613T110000
DTEND;TZID=Europe/Zurich:20260613T130000
GEO:46.200954;6.165609
X-APPLE-STRUCTURED-LOCATION;VALUE=URI;X-ADDRESS=Esplanade Alice-BAILLY 1\, 
 1207 Genève\, 1208 Genève\, Suisse;X-APPLE-RADIUS=72;X-TITLE=La Comédie
  de Genève:geo:46.200954,6.165609
END:VEVENT
END:VCALENDAR