BEGIN:VCALENDAR
VERSION:2.0
PRODID:-//Les communes genevoises//Agenda//FR
NAME:Les communes genevoises
X-WR-CALNAME:Les communes genevoises
BEGIN:VTIMEZONE
TZID:Europe/Zurich
BEGIN:STANDARD
DTSTART:20251026T030000
TZOFFSETFROM:+0200
TZOFFSETTO:+0100
END:STANDARD
BEGIN:DAYLIGHT
DTSTART:20260329T010000
TZOFFSETFROM:+0100
TZOFFSETTO:+0200
END:DAYLIGHT
BEGIN:STANDARD
DTSTART:20261025T030000
TZOFFSETFROM:+0200
TZOFFSETTO:+0100
END:STANDARD
END:VTIMEZONE
BEGIN:VTIMEZONE
TZID:UTC
BEGIN:STANDARD
DTSTART:20250725T121800
TZOFFSETFROM:+0000
TZOFFSETTO:+0000
END:STANDARD
END:VTIMEZONE
BEGIN:VEVENT
UID:29288b60-1257-4ced-b29d-4d965f03845e-0
DTSTAMP:20260421T121800Z
SUMMARY:Atelier participatif enfants - Biennale (re)connecting.earth 2026 -
  À la pêche  \naux ressources avec l'association terragir
DESCRIPTION:Un atelier créatif donné par Clarisse Cazenave de l’associa
 tion terragir pour comprendre les ressources cachées derrière les objets
  numériques.
LOCATION:Genève\, 1204 Genève\, Suisse
URL:https://www.geneve-communes.ch/agenda/atelier-participatif-enfants-bien
 nale-reconnectingearth-2026-la-peche-aux-ressources-avec
DTSTART;TZID=Europe/Zurich:20260513T143000
DTEND;TZID=Europe/Zurich:20260513T163000
GEO:46.201756;6.146601
X-APPLE-STRUCTURED-LOCATION;VALUE=URI;X-ADDRESS=Genève\, 1204 Genève\, Su
 isse;X-APPLE-RADIUS=72;X-TITLE=Autre lieu:geo:46.201756,6.146601
END:VEVENT
END:VCALENDAR