BEGIN:VCALENDAR
VERSION:2.0
PRODID:-//Les communes genevoises//Agenda//FR
NAME:Les communes genevoises
X-WR-CALNAME:Les communes genevoises
BEGIN:VTIMEZONE
TZID:Europe/Zurich
BEGIN:STANDARD
DTSTART:20251026T030000
TZOFFSETFROM:+0200
TZOFFSETTO:+0100
END:STANDARD
BEGIN:DAYLIGHT
DTSTART:20260329T010000
TZOFFSETFROM:+0100
TZOFFSETTO:+0200
END:DAYLIGHT
BEGIN:STANDARD
DTSTART:20261025T030000
TZOFFSETFROM:+0200
TZOFFSETTO:+0100
END:STANDARD
END:VTIMEZONE
BEGIN:VTIMEZONE
TZID:UTC
BEGIN:STANDARD
DTSTART:20250725T121800
TZOFFSETFROM:+0000
TZOFFSETTO:+0000
END:STANDARD
END:VTIMEZONE
BEGIN:VEVENT
UID:fb5562b7-32e2-4da3-b70b-a6caab4cc83c-0
DTSTAMP:20260421T121800Z
SUMMARY:Atelier participatif enfants - Biennale (re)connecting.earth 2026 -
  Explorer les ressources de la Terre
DESCRIPTION:Un espace créatif ouvert aux enfants et familles invité·es 
 à imaginer l’histoire et les transformations des objets à partir de di
 fférents matériaux à la Comédie de Genève
LOCATION:Esplanade Alice-BAILLY 1\, 1207 Genève\, 1208 Genève\, Suisse
URL:https://www.geneve-communes.ch/agenda/atelier-participatif-enfants-bien
 nale-reconnectingearth-2026-explorer-les-ressources-de-la
DTSTART;TZID=Europe/Zurich:20260506T140000
DTEND;TZID=Europe/Zurich:20260506T180000
GEO:46.200954;6.165609
X-APPLE-STRUCTURED-LOCATION;VALUE=URI;X-ADDRESS=Esplanade Alice-BAILLY 1\, 
 1207 Genève\, 1208 Genève\, Suisse;X-APPLE-RADIUS=72;X-TITLE=La Comédie
  de Genève:geo:46.200954,6.165609
END:VEVENT
END:VCALENDAR