BEGIN:VCALENDAR
VERSION:2.0
PRODID:-//Les communes genevoises//Agenda//FR
NAME:Les communes genevoises
X-WR-CALNAME:Les communes genevoises
BEGIN:VTIMEZONE
TZID:Europe/Zurich
BEGIN:STANDARD
DTSTART:20251026T030000
TZOFFSETFROM:+0200
TZOFFSETTO:+0100
END:STANDARD
BEGIN:DAYLIGHT
DTSTART:20260329T010000
TZOFFSETFROM:+0100
TZOFFSETTO:+0200
END:DAYLIGHT
BEGIN:STANDARD
DTSTART:20261025T030000
TZOFFSETFROM:+0200
TZOFFSETTO:+0100
END:STANDARD
END:VTIMEZONE
BEGIN:VTIMEZONE
TZID:UTC
BEGIN:STANDARD
DTSTART:20250725T115601
TZOFFSETFROM:+0000
TZOFFSETTO:+0000
END:STANDARD
END:VTIMEZONE
BEGIN:VEVENT
UID:76f7d18a-c727-4102-897c-35897f4a274c-0
DTSTAMP:20260421T115601Z
SUMMARY:Prix Jeunesse 2026 : 10 ans d’engagement en faveur de la jeunesse
  !
DESCRIPTION:Le Prix Jeunesse fête cette année ses 10 ans le jeudi 7 mai a
 u Bateau Genève à 19h. La cérémonie récompensera des jeunes engagé-e
 s ainsi que des personnes engagées en faveur de la jeunesse à Genève.
URL:https://www.geneve-communes.ch/agenda/prix-jeunesse-2026-10-ans-dengage
 ment-en-faveur-de-la-jeunesse
DTSTART;TZID=Europe/Zurich:20260507T190000
DTEND;TZID=Europe/Zurich:20260507T235900
GEO:46.204377;6.15461
END:VEVENT
BEGIN:VEVENT
UID:76f7d18a-c727-4102-897c-35897f4a274c-1
DTSTAMP:20260421T115601Z
SUMMARY:Prix Jeunesse 2026 : 10 ans d’engagement en faveur de la jeunesse
  !
DESCRIPTION:Le Prix Jeunesse fête cette année ses 10 ans le jeudi 7 mai a
 u Bateau Genève à 19h. La cérémonie récompensera des jeunes engagé-e
 s ainsi que des personnes engagées en faveur de la jeunesse à Genève.
URL:https://www.geneve-communes.ch/agenda/prix-jeunesse-2026-10-ans-dengage
 ment-en-faveur-de-la-jeunesse
DTSTART;TZID=Europe/Zurich:20260508T000000
DTEND;TZID=Europe/Zurich:20260508T003000
GEO:46.204377;6.15461
END:VEVENT
END:VCALENDAR