BEGIN:VCALENDAR
VERSION:2.0
PRODID:-//Les communes genevoises//Agenda//FR
NAME:Les communes genevoises
X-WR-CALNAME:Les communes genevoises
BEGIN:VTIMEZONE
TZID:Europe/Zurich
BEGIN:STANDARD
DTSTART:20251026T030000
TZOFFSETFROM:+0200
TZOFFSETTO:+0100
END:STANDARD
BEGIN:DAYLIGHT
DTSTART:20260329T010000
TZOFFSETFROM:+0100
TZOFFSETTO:+0200
END:DAYLIGHT
BEGIN:STANDARD
DTSTART:20261025T030000
TZOFFSETFROM:+0200
TZOFFSETTO:+0100
END:STANDARD
END:VTIMEZONE
BEGIN:VTIMEZONE
TZID:UTC
BEGIN:STANDARD
DTSTART:20250725T104400
TZOFFSETFROM:+0000
TZOFFSETTO:+0000
END:STANDARD
END:VTIMEZONE
BEGIN:VEVENT
UID:4c602f86-fe2e-4ad6-8220-a1687fe85d67-0
DTSTAMP:20260421T104400Z
SUMMARY:Mémoire d’Homme – Exposition de Thénie Khatchatourian
DESCRIPTION:Exposition personnelle de Thénie Khatchatourian à la Renaissa
 nce Galerie d’Art\, Genève. Dessins sur papier explorant mémoire\, for
 mes symboliques et héritage culturel. Du 16 avril au 16 mai 2026.
LOCATION:Genève\, 1204 Genève\, Suisse
URL:https://www.geneve-communes.ch/agenda/memoire-dhomme-exposition-de-then
 ie-khatchatourian
DTSTART;TZID=Europe/Zurich:20260416T103000
DTEND;TZID=Europe/Zurich:20260416T180000
GEO:46.201756;6.146601
X-APPLE-STRUCTURED-LOCATION;VALUE=URI;X-ADDRESS=Genève\, 1204 Genève\, Su
 isse;X-APPLE-RADIUS=72;X-TITLE=Autre lieu:geo:46.201756,6.146601
END:VEVENT
BEGIN:VEVENT
UID:4c602f86-fe2e-4ad6-8220-a1687fe85d67-1
DTSTAMP:20260421T104400Z
SUMMARY:Mémoire d’Homme – Exposition de Thénie Khatchatourian
DESCRIPTION:Exposition personnelle de Thénie Khatchatourian à la Renaissa
 nce Galerie d’Art\, Genève. Dessins sur papier explorant mémoire\, for
 mes symboliques et héritage culturel. Du 16 avril au 16 mai 2026.
LOCATION:Genève\, 1204 Genève\, Suisse
URL:https://www.geneve-communes.ch/agenda/memoire-dhomme-exposition-de-then
 ie-khatchatourian
DTSTART;TZID=Europe/Zurich:20260417T103000
DTEND;TZID=Europe/Zurich:20260417T180000
GEO:46.201756;6.146601
X-APPLE-STRUCTURED-LOCATION;VALUE=URI;X-ADDRESS=Genève\, 1204 Genève\, Su
 isse;X-APPLE-RADIUS=72;X-TITLE=Autre lieu:geo:46.201756,6.146601
END:VEVENT
BEGIN:VEVENT
UID:4c602f86-fe2e-4ad6-8220-a1687fe85d67-2
DTSTAMP:20260421T104400Z
SUMMARY:Mémoire d’Homme – Exposition de Thénie Khatchatourian
DESCRIPTION:Exposition personnelle de Thénie Khatchatourian à la Renaissa
 nce Galerie d’Art\, Genève. Dessins sur papier explorant mémoire\, for
 mes symboliques et héritage culturel. Du 16 avril au 16 mai 2026.
LOCATION:Genève\, 1204 Genève\, Suisse
URL:https://www.geneve-communes.ch/agenda/memoire-dhomme-exposition-de-then
 ie-khatchatourian
DTSTART;TZID=Europe/Zurich:20260422T103000
DTEND;TZID=Europe/Zurich:20260422T180000
GEO:46.201756;6.146601
X-APPLE-STRUCTURED-LOCATION;VALUE=URI;X-ADDRESS=Genève\, 1204 Genève\, Su
 isse;X-APPLE-RADIUS=72;X-TITLE=Autre lieu:geo:46.201756,6.146601
END:VEVENT
BEGIN:VEVENT
UID:4c602f86-fe2e-4ad6-8220-a1687fe85d67-3
DTSTAMP:20260421T104400Z
SUMMARY:Mémoire d’Homme – Exposition de Thénie Khatchatourian
DESCRIPTION:Exposition personnelle de Thénie Khatchatourian à la Renaissa
 nce Galerie d’Art\, Genève. Dessins sur papier explorant mémoire\, for
 mes symboliques et héritage culturel. Du 16 avril au 16 mai 2026.
LOCATION:Genève\, 1204 Genève\, Suisse
URL:https://www.geneve-communes.ch/agenda/memoire-dhomme-exposition-de-then
 ie-khatchatourian
DTSTART;TZID=Europe/Zurich:20260423T103000
DTEND;TZID=Europe/Zurich:20260423T180000
GEO:46.201756;6.146601
X-APPLE-STRUCTURED-LOCATION;VALUE=URI;X-ADDRESS=Genève\, 1204 Genève\, Su
 isse;X-APPLE-RADIUS=72;X-TITLE=Autre lieu:geo:46.201756,6.146601
END:VEVENT
BEGIN:VEVENT
UID:4c602f86-fe2e-4ad6-8220-a1687fe85d67-4
DTSTAMP:20260421T104400Z
SUMMARY:Mémoire d’Homme – Exposition de Thénie Khatchatourian
DESCRIPTION:Exposition personnelle de Thénie Khatchatourian à la Renaissa
 nce Galerie d’Art\, Genève. Dessins sur papier explorant mémoire\, for
 mes symboliques et héritage culturel. Du 16 avril au 16 mai 2026.
LOCATION:Genève\, 1204 Genève\, Suisse
URL:https://www.geneve-communes.ch/agenda/memoire-dhomme-exposition-de-then
 ie-khatchatourian
DTSTART;TZID=Europe/Zurich:20260424T103000
DTEND;TZID=Europe/Zurich:20260424T180000
GEO:46.201756;6.146601
X-APPLE-STRUCTURED-LOCATION;VALUE=URI;X-ADDRESS=Genève\, 1204 Genève\, Su
 isse;X-APPLE-RADIUS=72;X-TITLE=Autre lieu:geo:46.201756,6.146601
END:VEVENT
BEGIN:VEVENT
UID:4c602f86-fe2e-4ad6-8220-a1687fe85d67-5
DTSTAMP:20260421T104400Z
SUMMARY:Mémoire d’Homme – Exposition de Thénie Khatchatourian
DESCRIPTION:Exposition personnelle de Thénie Khatchatourian à la Renaissa
 nce Galerie d’Art\, Genève. Dessins sur papier explorant mémoire\, for
 mes symboliques et héritage culturel. Du 16 avril au 16 mai 2026.
LOCATION:Genève\, 1204 Genève\, Suisse
URL:https://www.geneve-communes.ch/agenda/memoire-dhomme-exposition-de-then
 ie-khatchatourian
DTSTART;TZID=Europe/Zurich:20260429T103000
DTEND;TZID=Europe/Zurich:20260429T180000
GEO:46.201756;6.146601
X-APPLE-STRUCTURED-LOCATION;VALUE=URI;X-ADDRESS=Genève\, 1204 Genève\, Su
 isse;X-APPLE-RADIUS=72;X-TITLE=Autre lieu:geo:46.201756,6.146601
END:VEVENT
BEGIN:VEVENT
UID:4c602f86-fe2e-4ad6-8220-a1687fe85d67-6
DTSTAMP:20260421T104400Z
SUMMARY:Mémoire d’Homme – Exposition de Thénie Khatchatourian
DESCRIPTION:Exposition personnelle de Thénie Khatchatourian à la Renaissa
 nce Galerie d’Art\, Genève. Dessins sur papier explorant mémoire\, for
 mes symboliques et héritage culturel. Du 16 avril au 16 mai 2026.
LOCATION:Genève\, 1204 Genève\, Suisse
URL:https://www.geneve-communes.ch/agenda/memoire-dhomme-exposition-de-then
 ie-khatchatourian
DTSTART;TZID=Europe/Zurich:20260430T103000
DTEND;TZID=Europe/Zurich:20260430T180000
GEO:46.201756;6.146601
X-APPLE-STRUCTURED-LOCATION;VALUE=URI;X-ADDRESS=Genève\, 1204 Genève\, Su
 isse;X-APPLE-RADIUS=72;X-TITLE=Autre lieu:geo:46.201756,6.146601
END:VEVENT
BEGIN:VEVENT
UID:4c602f86-fe2e-4ad6-8220-a1687fe85d67-7
DTSTAMP:20260421T104400Z
SUMMARY:Mémoire d’Homme – Exposition de Thénie Khatchatourian
DESCRIPTION:Exposition personnelle de Thénie Khatchatourian à la Renaissa
 nce Galerie d’Art\, Genève. Dessins sur papier explorant mémoire\, for
 mes symboliques et héritage culturel. Du 16 avril au 16 mai 2026.
LOCATION:Genève\, 1204 Genève\, Suisse
URL:https://www.geneve-communes.ch/agenda/memoire-dhomme-exposition-de-then
 ie-khatchatourian
DTSTART;TZID=Europe/Zurich:20260501T103000
DTEND;TZID=Europe/Zurich:20260501T180000
GEO:46.201756;6.146601
X-APPLE-STRUCTURED-LOCATION;VALUE=URI;X-ADDRESS=Genève\, 1204 Genève\, Su
 isse;X-APPLE-RADIUS=72;X-TITLE=Autre lieu:geo:46.201756,6.146601
END:VEVENT
BEGIN:VEVENT
UID:4c602f86-fe2e-4ad6-8220-a1687fe85d67-8
DTSTAMP:20260421T104400Z
SUMMARY:Mémoire d’Homme – Exposition de Thénie Khatchatourian
DESCRIPTION:Exposition personnelle de Thénie Khatchatourian à la Renaissa
 nce Galerie d’Art\, Genève. Dessins sur papier explorant mémoire\, for
 mes symboliques et héritage culturel. Du 16 avril au 16 mai 2026.
LOCATION:Genève\, 1204 Genève\, Suisse
URL:https://www.geneve-communes.ch/agenda/memoire-dhomme-exposition-de-then
 ie-khatchatourian
DTSTART;TZID=Europe/Zurich:20260506T103000
DTEND;TZID=Europe/Zurich:20260506T180000
GEO:46.201756;6.146601
X-APPLE-STRUCTURED-LOCATION;VALUE=URI;X-ADDRESS=Genève\, 1204 Genève\, Su
 isse;X-APPLE-RADIUS=72;X-TITLE=Autre lieu:geo:46.201756,6.146601
END:VEVENT
BEGIN:VEVENT
UID:4c602f86-fe2e-4ad6-8220-a1687fe85d67-9
DTSTAMP:20260421T104400Z
SUMMARY:Mémoire d’Homme – Exposition de Thénie Khatchatourian
DESCRIPTION:Exposition personnelle de Thénie Khatchatourian à la Renaissa
 nce Galerie d’Art\, Genève. Dessins sur papier explorant mémoire\, for
 mes symboliques et héritage culturel. Du 16 avril au 16 mai 2026.
LOCATION:Genève\, 1204 Genève\, Suisse
URL:https://www.geneve-communes.ch/agenda/memoire-dhomme-exposition-de-then
 ie-khatchatourian
DTSTART;TZID=Europe/Zurich:20260507T103000
DTEND;TZID=Europe/Zurich:20260507T180000
GEO:46.201756;6.146601
X-APPLE-STRUCTURED-LOCATION;VALUE=URI;X-ADDRESS=Genève\, 1204 Genève\, Su
 isse;X-APPLE-RADIUS=72;X-TITLE=Autre lieu:geo:46.201756,6.146601
END:VEVENT
BEGIN:VEVENT
UID:4c602f86-fe2e-4ad6-8220-a1687fe85d67-10
DTSTAMP:20260421T104400Z
SUMMARY:Mémoire d’Homme – Exposition de Thénie Khatchatourian
DESCRIPTION:Exposition personnelle de Thénie Khatchatourian à la Renaissa
 nce Galerie d’Art\, Genève. Dessins sur papier explorant mémoire\, for
 mes symboliques et héritage culturel. Du 16 avril au 16 mai 2026.
LOCATION:Genève\, 1204 Genève\, Suisse
URL:https://www.geneve-communes.ch/agenda/memoire-dhomme-exposition-de-then
 ie-khatchatourian
DTSTART;TZID=Europe/Zurich:20260508T103000
DTEND;TZID=Europe/Zurich:20260508T180000
GEO:46.201756;6.146601
X-APPLE-STRUCTURED-LOCATION;VALUE=URI;X-ADDRESS=Genève\, 1204 Genève\, Su
 isse;X-APPLE-RADIUS=72;X-TITLE=Autre lieu:geo:46.201756,6.146601
END:VEVENT
BEGIN:VEVENT
UID:4c602f86-fe2e-4ad6-8220-a1687fe85d67-11
DTSTAMP:20260421T104400Z
SUMMARY:Mémoire d’Homme – Exposition de Thénie Khatchatourian
DESCRIPTION:Exposition personnelle de Thénie Khatchatourian à la Renaissa
 nce Galerie d’Art\, Genève. Dessins sur papier explorant mémoire\, for
 mes symboliques et héritage culturel. Du 16 avril au 16 mai 2026.
LOCATION:Genève\, 1204 Genève\, Suisse
URL:https://www.geneve-communes.ch/agenda/memoire-dhomme-exposition-de-then
 ie-khatchatourian
DTSTART;TZID=Europe/Zurich:20260513T103000
DTEND;TZID=Europe/Zurich:20260513T180000
GEO:46.201756;6.146601
X-APPLE-STRUCTURED-LOCATION;VALUE=URI;X-ADDRESS=Genève\, 1204 Genève\, Su
 isse;X-APPLE-RADIUS=72;X-TITLE=Autre lieu:geo:46.201756,6.146601
END:VEVENT
BEGIN:VEVENT
UID:4c602f86-fe2e-4ad6-8220-a1687fe85d67-12
DTSTAMP:20260421T104400Z
SUMMARY:Mémoire d’Homme – Exposition de Thénie Khatchatourian
DESCRIPTION:Exposition personnelle de Thénie Khatchatourian à la Renaissa
 nce Galerie d’Art\, Genève. Dessins sur papier explorant mémoire\, for
 mes symboliques et héritage culturel. Du 16 avril au 16 mai 2026.
LOCATION:Genève\, 1204 Genève\, Suisse
URL:https://www.geneve-communes.ch/agenda/memoire-dhomme-exposition-de-then
 ie-khatchatourian
DTSTART;TZID=Europe/Zurich:20260514T103000
DTEND;TZID=Europe/Zurich:20260514T180000
GEO:46.201756;6.146601
X-APPLE-STRUCTURED-LOCATION;VALUE=URI;X-ADDRESS=Genève\, 1204 Genève\, Su
 isse;X-APPLE-RADIUS=72;X-TITLE=Autre lieu:geo:46.201756,6.146601
END:VEVENT
BEGIN:VEVENT
UID:4c602f86-fe2e-4ad6-8220-a1687fe85d67-13
DTSTAMP:20260421T104400Z
SUMMARY:Mémoire d’Homme – Exposition de Thénie Khatchatourian
DESCRIPTION:Exposition personnelle de Thénie Khatchatourian à la Renaissa
 nce Galerie d’Art\, Genève. Dessins sur papier explorant mémoire\, for
 mes symboliques et héritage culturel. Du 16 avril au 16 mai 2026.
LOCATION:Genève\, 1204 Genève\, Suisse
URL:https://www.geneve-communes.ch/agenda/memoire-dhomme-exposition-de-then
 ie-khatchatourian
DTSTART;TZID=Europe/Zurich:20260515T103000
DTEND;TZID=Europe/Zurich:20260515T180000
GEO:46.201756;6.146601
X-APPLE-STRUCTURED-LOCATION;VALUE=URI;X-ADDRESS=Genève\, 1204 Genève\, Su
 isse;X-APPLE-RADIUS=72;X-TITLE=Autre lieu:geo:46.201756,6.146601
END:VEVENT
END:VCALENDAR