BEGIN:VCALENDAR
VERSION:2.0
PRODID:-//Les communes genevoises//Agenda//FR
NAME:Les communes genevoises
X-WR-CALNAME:Les communes genevoises
BEGIN:VTIMEZONE
TZID:Europe/Zurich
BEGIN:STANDARD
DTSTART:20251026T030000
TZOFFSETFROM:+0200
TZOFFSETTO:+0100
END:STANDARD
BEGIN:DAYLIGHT
DTSTART:20260329T010000
TZOFFSETFROM:+0100
TZOFFSETTO:+0200
END:DAYLIGHT
BEGIN:STANDARD
DTSTART:20261025T030000
TZOFFSETFROM:+0200
TZOFFSETTO:+0100
END:STANDARD
END:VTIMEZONE
BEGIN:VTIMEZONE
TZID:UTC
BEGIN:STANDARD
DTSTART:20250725T102000
TZOFFSETFROM:+0000
TZOFFSETTO:+0000
END:STANDARD
END:VTIMEZONE
BEGIN:VEVENT
UID:4e9567a5-c68f-4c9b-a0a8-49d2025c9772-0
DTSTAMP:20260421T102000Z
SUMMARY:Programmation familles aux Jardins de la Jonction
DESCRIPTION:💛Mouette 2026\, c’est parti!💛
LOCATION:avenue de la Jonction 19\, 1235 Genève\, Suisse
URL:https://www.geneve-communes.ch/agenda/programmation-familles-aux-jardin
 s-de-la-jonction
DTSTART;TZID=Europe/Zurich:20260503T140000
DTEND;TZID=Europe/Zurich:20260503T170000
GEO:46.201279;6.125627
X-APPLE-STRUCTURED-LOCATION;VALUE=URI;X-ADDRESS=avenue de la Jonction 19\, 
 1235 Genève\, Suisse;X-APPLE-RADIUS=72;X-TITLE=Jardins de la Jonction:geo
 :46.201279,6.125627
END:VEVENT
BEGIN:VEVENT
UID:4e9567a5-c68f-4c9b-a0a8-49d2025c9772-1
DTSTAMP:20260421T102000Z
SUMMARY:Programmation familles aux Jardins de la Jonction
DESCRIPTION:💛Mouette 2026\, c’est parti!💛
LOCATION:avenue de la Jonction 19\, 1235 Genève\, Suisse
URL:https://www.geneve-communes.ch/agenda/programmation-familles-aux-jardin
 s-de-la-jonction
DTSTART;TZID=Europe/Zurich:20260506T140000
DTEND;TZID=Europe/Zurich:20260506T170000
GEO:46.201279;6.125627
X-APPLE-STRUCTURED-LOCATION;VALUE=URI;X-ADDRESS=avenue de la Jonction 19\, 
 1235 Genève\, Suisse;X-APPLE-RADIUS=72;X-TITLE=Jardins de la Jonction:geo
 :46.201279,6.125627
END:VEVENT
BEGIN:VEVENT
UID:4e9567a5-c68f-4c9b-a0a8-49d2025c9772-2
DTSTAMP:20260421T102000Z
SUMMARY:Programmation familles aux Jardins de la Jonction
DESCRIPTION:💛Mouette 2026\, c’est parti!💛
LOCATION:avenue de la Jonction 19\, 1235 Genève\, Suisse
URL:https://www.geneve-communes.ch/agenda/programmation-familles-aux-jardin
 s-de-la-jonction
DTSTART;TZID=Europe/Zurich:20260510T140000
DTEND;TZID=Europe/Zurich:20260510T170000
GEO:46.201279;6.125627
X-APPLE-STRUCTURED-LOCATION;VALUE=URI;X-ADDRESS=avenue de la Jonction 19\, 
 1235 Genève\, Suisse;X-APPLE-RADIUS=72;X-TITLE=Jardins de la Jonction:geo
 :46.201279,6.125627
END:VEVENT
BEGIN:VEVENT
UID:4e9567a5-c68f-4c9b-a0a8-49d2025c9772-3
DTSTAMP:20260421T102000Z
SUMMARY:Programmation familles aux Jardins de la Jonction
DESCRIPTION:💛Mouette 2026\, c’est parti!💛
LOCATION:avenue de la Jonction 19\, 1235 Genève\, Suisse
URL:https://www.geneve-communes.ch/agenda/programmation-familles-aux-jardin
 s-de-la-jonction
DTSTART;TZID=Europe/Zurich:20260513T140000
DTEND;TZID=Europe/Zurich:20260513T170000
GEO:46.201279;6.125627
X-APPLE-STRUCTURED-LOCATION;VALUE=URI;X-ADDRESS=avenue de la Jonction 19\, 
 1235 Genève\, Suisse;X-APPLE-RADIUS=72;X-TITLE=Jardins de la Jonction:geo
 :46.201279,6.125627
END:VEVENT
BEGIN:VEVENT
UID:4e9567a5-c68f-4c9b-a0a8-49d2025c9772-4
DTSTAMP:20260421T102000Z
SUMMARY:Programmation familles aux Jardins de la Jonction
DESCRIPTION:💛Mouette 2026\, c’est parti!💛
LOCATION:avenue de la Jonction 19\, 1235 Genève\, Suisse
URL:https://www.geneve-communes.ch/agenda/programmation-familles-aux-jardin
 s-de-la-jonction
DTSTART;TZID=Europe/Zurich:20260517T140000
DTEND;TZID=Europe/Zurich:20260517T170000
GEO:46.201279;6.125627
X-APPLE-STRUCTURED-LOCATION;VALUE=URI;X-ADDRESS=avenue de la Jonction 19\, 
 1235 Genève\, Suisse;X-APPLE-RADIUS=72;X-TITLE=Jardins de la Jonction:geo
 :46.201279,6.125627
END:VEVENT
BEGIN:VEVENT
UID:4e9567a5-c68f-4c9b-a0a8-49d2025c9772-5
DTSTAMP:20260421T102000Z
SUMMARY:Programmation familles aux Jardins de la Jonction
DESCRIPTION:💛Mouette 2026\, c’est parti!💛
LOCATION:avenue de la Jonction 19\, 1235 Genève\, Suisse
URL:https://www.geneve-communes.ch/agenda/programmation-familles-aux-jardin
 s-de-la-jonction
DTSTART;TZID=Europe/Zurich:20260520T140000
DTEND;TZID=Europe/Zurich:20260520T170000
GEO:46.201279;6.125627
X-APPLE-STRUCTURED-LOCATION;VALUE=URI;X-ADDRESS=avenue de la Jonction 19\, 
 1235 Genève\, Suisse;X-APPLE-RADIUS=72;X-TITLE=Jardins de la Jonction:geo
 :46.201279,6.125627
END:VEVENT
BEGIN:VEVENT
UID:4e9567a5-c68f-4c9b-a0a8-49d2025c9772-6
DTSTAMP:20260421T102000Z
SUMMARY:Programmation familles aux Jardins de la Jonction
DESCRIPTION:💛Mouette 2026\, c’est parti!💛
LOCATION:avenue de la Jonction 19\, 1235 Genève\, Suisse
URL:https://www.geneve-communes.ch/agenda/programmation-familles-aux-jardin
 s-de-la-jonction
DTSTART;TZID=Europe/Zurich:20260524T140000
DTEND;TZID=Europe/Zurich:20260524T170000
GEO:46.201279;6.125627
X-APPLE-STRUCTURED-LOCATION;VALUE=URI;X-ADDRESS=avenue de la Jonction 19\, 
 1235 Genève\, Suisse;X-APPLE-RADIUS=72;X-TITLE=Jardins de la Jonction:geo
 :46.201279,6.125627
END:VEVENT
BEGIN:VEVENT
UID:4e9567a5-c68f-4c9b-a0a8-49d2025c9772-7
DTSTAMP:20260421T102000Z
SUMMARY:Programmation familles aux Jardins de la Jonction
DESCRIPTION:💛Mouette 2026\, c’est parti!💛
LOCATION:avenue de la Jonction 19\, 1235 Genève\, Suisse
URL:https://www.geneve-communes.ch/agenda/programmation-familles-aux-jardin
 s-de-la-jonction
DTSTART;TZID=Europe/Zurich:20260527T140000
DTEND;TZID=Europe/Zurich:20260527T170000
GEO:46.201279;6.125627
X-APPLE-STRUCTURED-LOCATION;VALUE=URI;X-ADDRESS=avenue de la Jonction 19\, 
 1235 Genève\, Suisse;X-APPLE-RADIUS=72;X-TITLE=Jardins de la Jonction:geo
 :46.201279,6.125627
END:VEVENT
BEGIN:VEVENT
UID:4e9567a5-c68f-4c9b-a0a8-49d2025c9772-8
DTSTAMP:20260421T102000Z
SUMMARY:Programmation familles aux Jardins de la Jonction
DESCRIPTION:💛Mouette 2026\, c’est parti!💛
LOCATION:avenue de la Jonction 19\, 1235 Genève\, Suisse
URL:https://www.geneve-communes.ch/agenda/programmation-familles-aux-jardin
 s-de-la-jonction
DTSTART;TZID=Europe/Zurich:20260531T140000
DTEND;TZID=Europe/Zurich:20260531T170000
GEO:46.201279;6.125627
X-APPLE-STRUCTURED-LOCATION;VALUE=URI;X-ADDRESS=avenue de la Jonction 19\, 
 1235 Genève\, Suisse;X-APPLE-RADIUS=72;X-TITLE=Jardins de la Jonction:geo
 :46.201279,6.125627
END:VEVENT
END:VCALENDAR