BEGIN:VCALENDAR
VERSION:2.0
PRODID:-//Les communes genevoises//Agenda//FR
NAME:Les communes genevoises
X-WR-CALNAME:Les communes genevoises
BEGIN:VTIMEZONE
TZID:Europe/Zurich
BEGIN:STANDARD
DTSTART:20251026T030000
TZOFFSETFROM:+0200
TZOFFSETTO:+0100
END:STANDARD
BEGIN:DAYLIGHT
DTSTART:20260329T010000
TZOFFSETFROM:+0100
TZOFFSETTO:+0200
END:DAYLIGHT
BEGIN:STANDARD
DTSTART:20261025T030000
TZOFFSETFROM:+0200
TZOFFSETTO:+0100
END:STANDARD
END:VTIMEZONE
BEGIN:VTIMEZONE
TZID:UTC
BEGIN:STANDARD
DTSTART:20250725T102000
TZOFFSETFROM:+0000
TZOFFSETTO:+0000
END:STANDARD
END:VTIMEZONE
BEGIN:VEVENT
UID:05c3507d-3f3e-4313-9572-c0e0992b5bac-0
DTSTAMP:20260421T102000Z
SUMMARY:EXISTER / RÉSISTER: Existences queers - résister à l’effacemen
 t
DESCRIPTION:Du 7 au 20 mai\, la Ville de Genève s'engage contre les LGBTIQ
 -phobies. Cette édition \"EXISTER / RÉSISTER\" lutte contre l’effaceme
 nt des minorités pour favoriser une société plus inclusive et solidaire
LOCATION:Genève\, 1204 Genève\, Suisse
URL:https://www.geneve-communes.ch/agenda/exister-resister-existences-queer
 s-resister-leffacement
DTSTART;TZID=Europe/Zurich:20260507T190000
DTEND;TZID=Europe/Zurich:20260507T235900
GEO:46.201756;6.146601
X-APPLE-STRUCTURED-LOCATION;VALUE=URI;X-ADDRESS=Genève\, 1204 Genève\, Su
 isse;X-APPLE-RADIUS=72;X-TITLE=Autre lieu:geo:46.201756,6.146601
END:VEVENT
BEGIN:VEVENT
UID:05c3507d-3f3e-4313-9572-c0e0992b5bac-1
DTSTAMP:20260421T102000Z
SUMMARY:EXISTER / RÉSISTER: Existences queers - résister à l’effacemen
 t
DESCRIPTION:Du 7 au 20 mai\, la Ville de Genève s'engage contre les LGBTIQ
 -phobies. Cette édition \"EXISTER / RÉSISTER\" lutte contre l’effaceme
 nt des minorités pour favoriser une société plus inclusive et solidaire
LOCATION:Genève\, 1204 Genève\, Suisse
URL:https://www.geneve-communes.ch/agenda/exister-resister-existences-queer
 s-resister-leffacement
DTSTART;TZID=Europe/Zurich:20260508T100000
DTEND;TZID=Europe/Zurich:20260508T235900
GEO:46.201756;6.146601
X-APPLE-STRUCTURED-LOCATION;VALUE=URI;X-ADDRESS=Genève\, 1204 Genève\, Su
 isse;X-APPLE-RADIUS=72;X-TITLE=Autre lieu:geo:46.201756,6.146601
END:VEVENT
BEGIN:VEVENT
UID:05c3507d-3f3e-4313-9572-c0e0992b5bac-2
DTSTAMP:20260421T102000Z
SUMMARY:EXISTER / RÉSISTER: Existences queers - résister à l’effacemen
 t
DESCRIPTION:Du 7 au 20 mai\, la Ville de Genève s'engage contre les LGBTIQ
 -phobies. Cette édition \"EXISTER / RÉSISTER\" lutte contre l’effaceme
 nt des minorités pour favoriser une société plus inclusive et solidaire
LOCATION:Genève\, 1204 Genève\, Suisse
URL:https://www.geneve-communes.ch/agenda/exister-resister-existences-queer
 s-resister-leffacement
DTSTART;TZID=Europe/Zurich:20260509T100000
DTEND;TZID=Europe/Zurich:20260509T235900
GEO:46.201756;6.146601
X-APPLE-STRUCTURED-LOCATION;VALUE=URI;X-ADDRESS=Genève\, 1204 Genève\, Su
 isse;X-APPLE-RADIUS=72;X-TITLE=Autre lieu:geo:46.201756,6.146601
END:VEVENT
BEGIN:VEVENT
UID:05c3507d-3f3e-4313-9572-c0e0992b5bac-3
DTSTAMP:20260421T102000Z
SUMMARY:EXISTER / RÉSISTER: Existences queers - résister à l’effacemen
 t
DESCRIPTION:Du 7 au 20 mai\, la Ville de Genève s'engage contre les LGBTIQ
 -phobies. Cette édition \"EXISTER / RÉSISTER\" lutte contre l’effaceme
 nt des minorités pour favoriser une société plus inclusive et solidaire
LOCATION:Genève\, 1204 Genève\, Suisse
URL:https://www.geneve-communes.ch/agenda/exister-resister-existences-queer
 s-resister-leffacement
DTSTART;TZID=Europe/Zurich:20260510T100000
DTEND;TZID=Europe/Zurich:20260510T235900
GEO:46.201756;6.146601
X-APPLE-STRUCTURED-LOCATION;VALUE=URI;X-ADDRESS=Genève\, 1204 Genève\, Su
 isse;X-APPLE-RADIUS=72;X-TITLE=Autre lieu:geo:46.201756,6.146601
END:VEVENT
BEGIN:VEVENT
UID:05c3507d-3f3e-4313-9572-c0e0992b5bac-4
DTSTAMP:20260421T102000Z
SUMMARY:EXISTER / RÉSISTER: Existences queers - résister à l’effacemen
 t
DESCRIPTION:Du 7 au 20 mai\, la Ville de Genève s'engage contre les LGBTIQ
 -phobies. Cette édition \"EXISTER / RÉSISTER\" lutte contre l’effaceme
 nt des minorités pour favoriser une société plus inclusive et solidaire
LOCATION:Genève\, 1204 Genève\, Suisse
URL:https://www.geneve-communes.ch/agenda/exister-resister-existences-queer
 s-resister-leffacement
DTSTART;TZID=Europe/Zurich:20260511T100000
DTEND;TZID=Europe/Zurich:20260511T235900
GEO:46.201756;6.146601
X-APPLE-STRUCTURED-LOCATION;VALUE=URI;X-ADDRESS=Genève\, 1204 Genève\, Su
 isse;X-APPLE-RADIUS=72;X-TITLE=Autre lieu:geo:46.201756,6.146601
END:VEVENT
BEGIN:VEVENT
UID:05c3507d-3f3e-4313-9572-c0e0992b5bac-5
DTSTAMP:20260421T102000Z
SUMMARY:EXISTER / RÉSISTER: Existences queers - résister à l’effacemen
 t
DESCRIPTION:Du 7 au 20 mai\, la Ville de Genève s'engage contre les LGBTIQ
 -phobies. Cette édition \"EXISTER / RÉSISTER\" lutte contre l’effaceme
 nt des minorités pour favoriser une société plus inclusive et solidaire
LOCATION:Genève\, 1204 Genève\, Suisse
URL:https://www.geneve-communes.ch/agenda/exister-resister-existences-queer
 s-resister-leffacement
DTSTART;TZID=Europe/Zurich:20260512T100000
DTEND;TZID=Europe/Zurich:20260512T235900
GEO:46.201756;6.146601
X-APPLE-STRUCTURED-LOCATION;VALUE=URI;X-ADDRESS=Genève\, 1204 Genève\, Su
 isse;X-APPLE-RADIUS=72;X-TITLE=Autre lieu:geo:46.201756,6.146601
END:VEVENT
BEGIN:VEVENT
UID:05c3507d-3f3e-4313-9572-c0e0992b5bac-6
DTSTAMP:20260421T102000Z
SUMMARY:EXISTER / RÉSISTER: Existences queers - résister à l’effacemen
 t
DESCRIPTION:Du 7 au 20 mai\, la Ville de Genève s'engage contre les LGBTIQ
 -phobies. Cette édition \"EXISTER / RÉSISTER\" lutte contre l’effaceme
 nt des minorités pour favoriser une société plus inclusive et solidaire
LOCATION:Genève\, 1204 Genève\, Suisse
URL:https://www.geneve-communes.ch/agenda/exister-resister-existences-queer
 s-resister-leffacement
DTSTART;TZID=Europe/Zurich:20260513T100000
DTEND;TZID=Europe/Zurich:20260513T235900
GEO:46.201756;6.146601
X-APPLE-STRUCTURED-LOCATION;VALUE=URI;X-ADDRESS=Genève\, 1204 Genève\, Su
 isse;X-APPLE-RADIUS=72;X-TITLE=Autre lieu:geo:46.201756,6.146601
END:VEVENT
BEGIN:VEVENT
UID:05c3507d-3f3e-4313-9572-c0e0992b5bac-7
DTSTAMP:20260421T102000Z
SUMMARY:EXISTER / RÉSISTER: Existences queers - résister à l’effacemen
 t
DESCRIPTION:Du 7 au 20 mai\, la Ville de Genève s'engage contre les LGBTIQ
 -phobies. Cette édition \"EXISTER / RÉSISTER\" lutte contre l’effaceme
 nt des minorités pour favoriser une société plus inclusive et solidaire
LOCATION:Genève\, 1204 Genève\, Suisse
URL:https://www.geneve-communes.ch/agenda/exister-resister-existences-queer
 s-resister-leffacement
DTSTART;TZID=Europe/Zurich:20260514T100000
DTEND;TZID=Europe/Zurich:20260514T235900
GEO:46.201756;6.146601
X-APPLE-STRUCTURED-LOCATION;VALUE=URI;X-ADDRESS=Genève\, 1204 Genève\, Su
 isse;X-APPLE-RADIUS=72;X-TITLE=Autre lieu:geo:46.201756,6.146601
END:VEVENT
BEGIN:VEVENT
UID:05c3507d-3f3e-4313-9572-c0e0992b5bac-8
DTSTAMP:20260421T102000Z
SUMMARY:EXISTER / RÉSISTER: Existences queers - résister à l’effacemen
 t
DESCRIPTION:Du 7 au 20 mai\, la Ville de Genève s'engage contre les LGBTIQ
 -phobies. Cette édition \"EXISTER / RÉSISTER\" lutte contre l’effaceme
 nt des minorités pour favoriser une société plus inclusive et solidaire
LOCATION:Genève\, 1204 Genève\, Suisse
URL:https://www.geneve-communes.ch/agenda/exister-resister-existences-queer
 s-resister-leffacement
DTSTART;TZID=Europe/Zurich:20260515T100000
DTEND;TZID=Europe/Zurich:20260515T235900
GEO:46.201756;6.146601
X-APPLE-STRUCTURED-LOCATION;VALUE=URI;X-ADDRESS=Genève\, 1204 Genève\, Su
 isse;X-APPLE-RADIUS=72;X-TITLE=Autre lieu:geo:46.201756,6.146601
END:VEVENT
BEGIN:VEVENT
UID:05c3507d-3f3e-4313-9572-c0e0992b5bac-9
DTSTAMP:20260421T102000Z
SUMMARY:EXISTER / RÉSISTER: Existences queers - résister à l’effacemen
 t
DESCRIPTION:Du 7 au 20 mai\, la Ville de Genève s'engage contre les LGBTIQ
 -phobies. Cette édition \"EXISTER / RÉSISTER\" lutte contre l’effaceme
 nt des minorités pour favoriser une société plus inclusive et solidaire
LOCATION:Genève\, 1204 Genève\, Suisse
URL:https://www.geneve-communes.ch/agenda/exister-resister-existences-queer
 s-resister-leffacement
DTSTART;TZID=Europe/Zurich:20260516T100000
DTEND;TZID=Europe/Zurich:20260516T235900
GEO:46.201756;6.146601
X-APPLE-STRUCTURED-LOCATION;VALUE=URI;X-ADDRESS=Genève\, 1204 Genève\, Su
 isse;X-APPLE-RADIUS=72;X-TITLE=Autre lieu:geo:46.201756,6.146601
END:VEVENT
BEGIN:VEVENT
UID:05c3507d-3f3e-4313-9572-c0e0992b5bac-10
DTSTAMP:20260421T102000Z
SUMMARY:EXISTER / RÉSISTER: Existences queers - résister à l’effacemen
 t
DESCRIPTION:Du 7 au 20 mai\, la Ville de Genève s'engage contre les LGBTIQ
 -phobies. Cette édition \"EXISTER / RÉSISTER\" lutte contre l’effaceme
 nt des minorités pour favoriser une société plus inclusive et solidaire
LOCATION:Genève\, 1204 Genève\, Suisse
URL:https://www.geneve-communes.ch/agenda/exister-resister-existences-queer
 s-resister-leffacement
DTSTART;TZID=Europe/Zurich:20260517T100000
DTEND;TZID=Europe/Zurich:20260517T235900
GEO:46.201756;6.146601
X-APPLE-STRUCTURED-LOCATION;VALUE=URI;X-ADDRESS=Genève\, 1204 Genève\, Su
 isse;X-APPLE-RADIUS=72;X-TITLE=Autre lieu:geo:46.201756,6.146601
END:VEVENT
END:VCALENDAR