BEGIN:VCALENDAR
VERSION:2.0
PRODID:-//Les communes genevoises//Agenda//FR
NAME:Les communes genevoises
X-WR-CALNAME:Les communes genevoises
BEGIN:VTIMEZONE
TZID:Europe/Zurich
BEGIN:STANDARD
DTSTART:20251026T030000
TZOFFSETFROM:+0200
TZOFFSETTO:+0100
END:STANDARD
BEGIN:DAYLIGHT
DTSTART:20260329T010000
TZOFFSETFROM:+0100
TZOFFSETTO:+0200
END:DAYLIGHT
BEGIN:STANDARD
DTSTART:20261025T030000
TZOFFSETFROM:+0200
TZOFFSETTO:+0100
END:STANDARD
END:VTIMEZONE
BEGIN:VTIMEZONE
TZID:UTC
BEGIN:STANDARD
DTSTART:20250725T093400
TZOFFSETFROM:+0000
TZOFFSETTO:+0000
END:STANDARD
END:VTIMEZONE
BEGIN:VEVENT
UID:430f06e2-988f-4f9a-b190-c508f2d34ad3-0
DTSTAMP:20260421T093400Z
SUMMARY:Gift of Smile through Music
DESCRIPTION:Un ado né avec une fente labio-palatine\, organise la troisiè
 me édition de son concert caritatif visant à financer les chirurgies d
 ’autres enfants qui n’ont pas eu la même chance que lui.
LOCATION:Passage Marie-Claude-LEBURGUE 2\, 1205 Genève\, Suisse
URL:https://www.geneve-communes.ch/agenda/gift-smile-through-music
DTSTART;TZID=Europe/Zurich:20260522T191500
DTEND;TZID=Europe/Zurich:20260522T223000
GEO:46.196804;6.136724
X-APPLE-STRUCTURED-LOCATION;VALUE=URI;X-ADDRESS=Passage Marie-Claude-LEBURG
 UE 2\, 1205 Genève\, Suisse;X-APPLE-RADIUS=72;X-TITLE=Auditorium Ansermet
  - Centre des Musiques Actuelles:geo:46.196804,6.136724
END:VEVENT
END:VCALENDAR