BEGIN:VCALENDAR
VERSION:2.0
PRODID:-//Les communes genevoises//Agenda//FR
NAME:Les communes genevoises
X-WR-CALNAME:Les communes genevoises
BEGIN:VTIMEZONE
TZID:Europe/Zurich
BEGIN:STANDARD
DTSTART:20251026T030000
TZOFFSETFROM:+0200
TZOFFSETTO:+0100
END:STANDARD
BEGIN:DAYLIGHT
DTSTART:20260329T010000
TZOFFSETFROM:+0100
TZOFFSETTO:+0200
END:DAYLIGHT
BEGIN:STANDARD
DTSTART:20261025T030000
TZOFFSETFROM:+0200
TZOFFSETTO:+0100
END:STANDARD
END:VTIMEZONE
BEGIN:VTIMEZONE
TZID:UTC
BEGIN:STANDARD
DTSTART:20250725T091200
TZOFFSETFROM:+0000
TZOFFSETTO:+0000
END:STANDARD
END:VTIMEZONE
BEGIN:VEVENT
UID:f5e57f30-08c7-455c-b97e-e17d4dbd6ab7-0
DTSTAMP:20260421T091200Z
SUMMARY:Audition de Piano
DESCRIPTION:Elèves de l'eMa
LOCATION:Passage Marie-Claude-LEBURGUE 2\, 1205 Genève\, Suisse
URL:https://www.geneve-communes.ch/agenda/audition-de-piano
DTSTART;TZID=Europe/Zurich:20260507T170000
DTEND;TZID=Europe/Zurich:20260507T193000
GEO:46.196804;6.136724
X-APPLE-STRUCTURED-LOCATION;VALUE=URI;X-ADDRESS=Passage Marie-Claude-LEBURG
 UE 2\, 1205 Genève\, Suisse;X-APPLE-RADIUS=72;X-TITLE=Auditorium Ansermet
  - Centre des Musiques Actuelles:geo:46.196804,6.136724
END:VEVENT
END:VCALENDAR