BEGIN:VCALENDAR
VERSION:2.0
PRODID:-//Les communes genevoises//Agenda//FR
NAME:Les communes genevoises
X-WR-CALNAME:Les communes genevoises
BEGIN:VTIMEZONE
TZID:Europe/Zurich
BEGIN:DAYLIGHT
DTSTART:20260329T010000
TZOFFSETFROM:+0100
TZOFFSETTO:+0200
END:DAYLIGHT
BEGIN:STANDARD
DTSTART:20261025T030000
TZOFFSETFROM:+0200
TZOFFSETTO:+0100
END:STANDARD
END:VTIMEZONE
BEGIN:VTIMEZONE
TZID:UTC
BEGIN:STANDARD
DTSTART:20250725T063800
TZOFFSETFROM:+0000
TZOFFSETTO:+0000
END:STANDARD
END:VTIMEZONE
BEGIN:VEVENT
UID:435ee065-1bbd-4ba3-ba32-b4bd989966d6-0
DTSTAMP:20260421T063800Z
SUMMARY:Soirée Milonga
DESCRIPTION:Venez mettre le feu à la Canopée\, avec une soirée sous le s
 igne de la milonga.
LOCATION:Genève\, 1207 Genève\, Suisse
URL:https://www.geneve-communes.ch/agenda/soiree-milonga
DTSTART;TZID=Europe/Zurich:20260729T190000
DTEND;TZID=Europe/Zurich:20260729T210000
GEO:46.208087;6.162954
X-APPLE-STRUCTURED-LOCATION;VALUE=URI;X-ADDRESS=Genève\, 1207 Genève\, Su
 isse;X-APPLE-RADIUS=72;X-TITLE=La Canopée:geo:46.208087,6.162954
END:VEVENT
END:VCALENDAR