BEGIN:VCALENDAR
VERSION:2.0
PRODID:-//Les communes genevoises//Agenda//FR
NAME:Les communes genevoises
X-WR-CALNAME:Les communes genevoises
BEGIN:VTIMEZONE
TZID:Europe/Zurich
BEGIN:STANDARD
DTSTART:20251026T030000
TZOFFSETFROM:+0200
TZOFFSETTO:+0100
END:STANDARD
BEGIN:DAYLIGHT
DTSTART:20260329T010000
TZOFFSETFROM:+0100
TZOFFSETTO:+0200
END:DAYLIGHT
BEGIN:STANDARD
DTSTART:20261025T030000
TZOFFSETFROM:+0200
TZOFFSETTO:+0100
END:STANDARD
END:VTIMEZONE
BEGIN:VTIMEZONE
TZID:UTC
BEGIN:STANDARD
DTSTART:20250725T063800
TZOFFSETFROM:+0000
TZOFFSETTO:+0000
END:STANDARD
END:VTIMEZONE
BEGIN:VEVENT
UID:56c3c773-fc9d-43d1-b7d8-d252cc7d15b5-0
DTSTAMP:20260421T063800Z
SUMMARY:Initiation au Zouk brésilien à la Canopée
DESCRIPTION:La Canopée se transforme en une piste de danse\, à l'occasion
  d'une soirée dédiée au Zouk brésilien.
LOCATION:Genève\, 1207 Genève\, Suisse
URL:https://www.geneve-communes.ch/agenda/initiation-au-zouk-bresilien-la-c
 anopee
DTSTART;TZID=Europe/Zurich:20260708T200000
DTEND;TZID=Europe/Zurich:20260708T210000
GEO:46.208087;6.162954
X-APPLE-STRUCTURED-LOCATION;VALUE=URI;X-ADDRESS=Genève\, 1207 Genève\, Su
 isse;X-APPLE-RADIUS=72;X-TITLE=La Canopée:geo:46.208087,6.162954
END:VEVENT
BEGIN:VEVENT
UID:56c3c773-fc9d-43d1-b7d8-d252cc7d15b5-1
DTSTAMP:20260421T063800Z
SUMMARY:Initiation au Zouk brésilien à la Canopée
DESCRIPTION:La Canopée se transforme en une piste de danse\, à l'occasion
  d'une soirée dédiée au Zouk brésilien.
LOCATION:Genève\, 1207 Genève\, Suisse
URL:https://www.geneve-communes.ch/agenda/initiation-au-zouk-bresilien-la-c
 anopee
DTSTART;TZID=Europe/Zurich:20260722T200000
DTEND;TZID=Europe/Zurich:20260722T210000
GEO:46.208087;6.162954
X-APPLE-STRUCTURED-LOCATION;VALUE=URI;X-ADDRESS=Genève\, 1207 Genève\, Su
 isse;X-APPLE-RADIUS=72;X-TITLE=La Canopée:geo:46.208087,6.162954
END:VEVENT
BEGIN:VEVENT
UID:56c3c773-fc9d-43d1-b7d8-d252cc7d15b5-2
DTSTAMP:20260421T063800Z
SUMMARY:Initiation au Zouk brésilien à la Canopée
DESCRIPTION:La Canopée se transforme en une piste de danse\, à l'occasion
  d'une soirée dédiée au Zouk brésilien.
LOCATION:Genève\, 1207 Genève\, Suisse
URL:https://www.geneve-communes.ch/agenda/initiation-au-zouk-bresilien-la-c
 anopee
DTSTART;TZID=Europe/Zurich:20260805T200000
DTEND;TZID=Europe/Zurich:20260805T210000
GEO:46.208087;6.162954
X-APPLE-STRUCTURED-LOCATION;VALUE=URI;X-ADDRESS=Genève\, 1207 Genève\, Su
 isse;X-APPLE-RADIUS=72;X-TITLE=La Canopée:geo:46.208087,6.162954
END:VEVENT
END:VCALENDAR