BEGIN:VCALENDAR
VERSION:2.0
PRODID:-//Les communes genevoises//Agenda//FR
NAME:Les communes genevoises
X-WR-CALNAME:Les communes genevoises
BEGIN:VTIMEZONE
TZID:Europe/Zurich
BEGIN:STANDARD
DTSTART:20251026T030000
TZOFFSETFROM:+0200
TZOFFSETTO:+0100
END:STANDARD
BEGIN:DAYLIGHT
DTSTART:20260329T010000
TZOFFSETFROM:+0100
TZOFFSETTO:+0200
END:DAYLIGHT
BEGIN:STANDARD
DTSTART:20261025T030000
TZOFFSETFROM:+0200
TZOFFSETTO:+0100
END:STANDARD
END:VTIMEZONE
BEGIN:VTIMEZONE
TZID:UTC
BEGIN:STANDARD
DTSTART:20250725T061600
TZOFFSETFROM:+0000
TZOFFSETTO:+0000
END:STANDARD
END:VTIMEZONE
BEGIN:VEVENT
UID:a5ec992e-149b-432e-b748-c81f0d7958e4-0
DTSTAMP:20260421T061600Z
SUMMARY:Rencontres aquatiques\, à la découverte des poissons du Léman - 
 Animation famille
DESCRIPTION:En famille\, apprenez en plus sur les poissons qui peuplent le 
 Léman
LOCATION:Rue des Cordiers 2\, 1207 Genève\, Suisse
URL:https://www.geneve-communes.ch/agenda/rencontres-aquatiques-la-decouver
 te-des-poissons-du-leman-animation-famille
DTSTART;TZID=Europe/Zurich:20260506T140000
DTEND;TZID=Europe/Zurich:20260506T153000
GEO:46.202433;6.16195
X-APPLE-STRUCTURED-LOCATION;VALUE=URI;X-ADDRESS=Rue des Cordiers 2\, 1207 G
 enève\, Suisse;X-APPLE-RADIUS=72;X-TITLE=Espace Léman:geo:46.202433,6.16
 195
END:VEVENT
END:VCALENDAR