BEGIN:VCALENDAR
VERSION:2.0
PRODID:-//Les communes genevoises//Agenda//FR
NAME:Les communes genevoises
X-WR-CALNAME:Les communes genevoises
BEGIN:VTIMEZONE
TZID:Europe/Zurich
BEGIN:STANDARD
DTSTART:20251026T030000
TZOFFSETFROM:+0200
TZOFFSETTO:+0100
END:STANDARD
BEGIN:DAYLIGHT
DTSTART:20260329T010000
TZOFFSETFROM:+0100
TZOFFSETTO:+0200
END:DAYLIGHT
BEGIN:STANDARD
DTSTART:20261025T030000
TZOFFSETFROM:+0200
TZOFFSETTO:+0100
END:STANDARD
END:VTIMEZONE
BEGIN:VTIMEZONE
TZID:UTC
BEGIN:STANDARD
DTSTART:20250724T164400
TZOFFSETFROM:+0000
TZOFFSETTO:+0000
END:STANDARD
END:VTIMEZONE
BEGIN:VEVENT
UID:88cf5fdc-15e5-4d65-b3dc-d54c9c711239-0
DTSTAMP:20260420T164400Z
SUMMARY:THE UNDERTONES + ASPHALT - 1 AN DU ROOSEVELT SPORTS CLUB
DESCRIPTION:Le Rez-Usine x Roosevelt Sports Club présentent : The Underton
 es - 50th Anniversary Tour! + Asphalt
LOCATION:Place des Volontaires 4\, 1204 Genève\, 8973 Genève\, Suisse
URL:https://www.geneve-communes.ch/agenda/undertones-asphalt-1-du-roosevelt
 -sports-club
DTSTART;TZID=Europe/Zurich:20260523T200000
DTEND;TZID=Europe/Zurich:20260523T235900
GEO:46.203993;6.136392
X-APPLE-STRUCTURED-LOCATION;VALUE=URI;X-ADDRESS=Place des Volontaires 4\, 1
 204 Genève\, 8973 Genève\, Suisse;X-APPLE-RADIUS=72;X-TITLE=Le Rez-Usine
 :geo:46.203993,6.136392
END:VEVENT
END:VCALENDAR