BEGIN:VCALENDAR
VERSION:2.0
PRODID:-//Les communes genevoises//Agenda//FR
NAME:Les communes genevoises
X-WR-CALNAME:Les communes genevoises
BEGIN:VTIMEZONE
TZID:Europe/Zurich
BEGIN:DAYLIGHT
DTSTART:20260329T010000
TZOFFSETFROM:+0100
TZOFFSETTO:+0200
END:DAYLIGHT
BEGIN:STANDARD
DTSTART:20261025T030000
TZOFFSETFROM:+0200
TZOFFSETTO:+0100
END:STANDARD
END:VTIMEZONE
BEGIN:VTIMEZONE
TZID:UTC
BEGIN:STANDARD
DTSTART:20250724T155800
TZOFFSETFROM:+0000
TZOFFSETTO:+0000
END:STANDARD
END:VTIMEZONE
BEGIN:VEVENT
UID:dec10d13-61c7-4e3d-be82-40156aeed971-0
DTSTAMP:20260420T155800Z
SUMMARY:Atelier: Destination FuturS
DESCRIPTION:Atelier pour imaginer ensemble des futurs possibles. Exposition
  temporaire. Dès 8 ans avec un-e accompagnant-e. Le dimanche 2 août à 1
 4h.
LOCATION:Boulevard Carl-VOGT 65\, 1205 Genève\, 1200 Genève\, Suisse
URL:https://www.geneve-communes.ch/agenda/atelier-destination-futurs-1
DTSTART;TZID=Europe/Zurich:20260802T140000
DTEND;TZID=Europe/Zurich:20260802T160000
GEO:46.197805;6.136786
X-APPLE-STRUCTURED-LOCATION;VALUE=URI;X-ADDRESS=Boulevard Carl-VOGT 65\, 12
 05 Genève\, 1200 Genève\, Suisse;X-APPLE-RADIUS=72;X-TITLE=MEG:geo:46.19
 7805,6.136786
END:VEVENT
END:VCALENDAR