BEGIN:VCALENDAR
VERSION:2.0
PRODID:-//Les communes genevoises//Agenda//FR
NAME:Les communes genevoises
X-WR-CALNAME:Les communes genevoises
BEGIN:VTIMEZONE
TZID:Europe/Zurich
BEGIN:STANDARD
DTSTART:20251026T030000
TZOFFSETFROM:+0200
TZOFFSETTO:+0100
END:STANDARD
BEGIN:DAYLIGHT
DTSTART:20260329T010000
TZOFFSETFROM:+0100
TZOFFSETTO:+0200
END:DAYLIGHT
BEGIN:STANDARD
DTSTART:20261025T030000
TZOFFSETFROM:+0200
TZOFFSETTO:+0100
END:STANDARD
END:VTIMEZONE
BEGIN:VTIMEZONE
TZID:UTC
BEGIN:STANDARD
DTSTART:20250724T145000
TZOFFSETFROM:+0000
TZOFFSETTO:+0000
END:STANDARD
END:VTIMEZONE
BEGIN:VEVENT
UID:ccfcd159-e86a-4b10-b57a-c051e2579a19-0
DTSTAMP:20260420T145000Z
SUMMARY:LILLY WOOD AND THE PRICK EN CONCERT
DESCRIPTION:Lilly Wood and The Prick en concert à Genève
LOCATION:Place des Volontaires 4\, 1204 Genève\, 8973 Genève\, Suisse
URL:https://www.geneve-communes.ch/agenda/lilly-wood-and-prick-en-concert
DTSTART;TZID=Europe/Zurich:20260508T200000
DTEND;TZID=Europe/Zurich:20260508T235900
GEO:46.203993;6.136392
X-APPLE-STRUCTURED-LOCATION;VALUE=URI;X-ADDRESS=Place des Volontaires 4\, 1
 204 Genève\, 8973 Genève\, Suisse;X-APPLE-RADIUS=72;X-TITLE=Le Rez-Usine
 :geo:46.203993,6.136392
END:VEVENT
END:VCALENDAR