BEGIN:VCALENDAR
VERSION:2.0
PRODID:-//Les communes genevoises//Agenda//FR
NAME:Les communes genevoises
X-WR-CALNAME:Les communes genevoises
BEGIN:VTIMEZONE
TZID:Europe/Zurich
BEGIN:STANDARD
DTSTART:20251026T030000
TZOFFSETFROM:+0200
TZOFFSETTO:+0100
END:STANDARD
BEGIN:DAYLIGHT
DTSTART:20260329T010000
TZOFFSETFROM:+0100
TZOFFSETTO:+0200
END:DAYLIGHT
BEGIN:STANDARD
DTSTART:20261025T030000
TZOFFSETFROM:+0200
TZOFFSETTO:+0100
END:STANDARD
END:VTIMEZONE
BEGIN:VTIMEZONE
TZID:UTC
BEGIN:STANDARD
DTSTART:20250724T131800
TZOFFSETFROM:+0000
TZOFFSETTO:+0000
END:STANDARD
END:VTIMEZONE
BEGIN:VEVENT
UID:7fbe1e8f-f102-4d17-b274-34b2f9021182-0
DTSTAMP:20260420T131800Z
SUMMARY:Svatbata – Répétition publique avec le Ballet du Grand Théâtr
 e de Genève
DESCRIPTION:Le Ballet du Grand Théâtre de Genève ouvre exceptionnellemen
 t l’une des dernières répétitions de Svatbata
LOCATION:Place des Volontaires 2\, 1204 Genève\, 1204 Genève\, Suisse
URL:https://www.geneve-communes.ch/agenda/svatbata-repetition-publique-avec
 -le-ballet-du-grand-theatre-de-geneve
DTSTART;TZID=Europe/Zurich:20260509T133000
DTEND;TZID=Europe/Zurich:20260509T143000
GEO:46.20421;6.136675
X-APPLE-STRUCTURED-LOCATION;VALUE=URI;X-ADDRESS=Place des Volontaires 2\, 1
 204 Genève\, 1204 Genève\, Suisse;X-APPLE-RADIUS=72;X-TITLE=BFM - Bâtim
 ent des Forces Motrices:geo:46.20421,6.136675
END:VEVENT
END:VCALENDAR