BEGIN:VCALENDAR
VERSION:2.0
PRODID:-//Les communes genevoises//Agenda//FR
NAME:Les communes genevoises
X-WR-CALNAME:Les communes genevoises
BEGIN:VTIMEZONE
TZID:Europe/Zurich
BEGIN:STANDARD
DTSTART:20251026T030000
TZOFFSETFROM:+0200
TZOFFSETTO:+0100
END:STANDARD
BEGIN:DAYLIGHT
DTSTART:20260329T010000
TZOFFSETFROM:+0100
TZOFFSETTO:+0200
END:DAYLIGHT
BEGIN:STANDARD
DTSTART:20261025T030000
TZOFFSETFROM:+0200
TZOFFSETTO:+0100
END:STANDARD
END:VTIMEZONE
BEGIN:VTIMEZONE
TZID:UTC
BEGIN:STANDARD
DTSTART:20250724T125400
TZOFFSETFROM:+0000
TZOFFSETTO:+0000
END:STANDARD
END:VTIMEZONE
BEGIN:VEVENT
UID:e83df899-6f37-4f69-9bc6-473fa07b5338-0
DTSTAMP:20260420T125400Z
SUMMARY:Planet C-Play Again?®
DESCRIPTION:Pourquoi fait-on si peu pour le climat même quand on sait? Par
 ticipez à Planet C\, un jeu collectif et immersif\, pour (re)découvrir n
 os blocages humains!
LOCATION:Rue fendt 1\, 1201 Genève\, Suisse
URL:https://www.geneve-communes.ch/agenda/planet-c-play-againr
DTSTART;TZID=Europe/Zurich:20260622T183000
DTEND;TZID=Europe/Zurich:20260622T213000
GEO:46.210523;6.141184
X-APPLE-STRUCTURED-LOCATION;VALUE=URI;X-ADDRESS=Rue fendt 1\, 1201 Genève\
 , Suisse;X-APPLE-RADIUS=72;X-TITLE=Maison de l'Avenir:geo:46.210523,6.1411
 84
END:VEVENT
END:VCALENDAR