BEGIN:VCALENDAR
VERSION:2.0
PRODID:-//Les communes genevoises//Agenda//FR
NAME:Les communes genevoises
X-WR-CALNAME:Les communes genevoises
BEGIN:VTIMEZONE
TZID:Europe/Zurich
BEGIN:STANDARD
DTSTART:20251026T030000
TZOFFSETFROM:+0200
TZOFFSETTO:+0100
END:STANDARD
BEGIN:DAYLIGHT
DTSTART:20260329T010000
TZOFFSETFROM:+0100
TZOFFSETTO:+0200
END:DAYLIGHT
BEGIN:STANDARD
DTSTART:20261025T030000
TZOFFSETFROM:+0200
TZOFFSETTO:+0100
END:STANDARD
END:VTIMEZONE
BEGIN:VTIMEZONE
TZID:UTC
BEGIN:STANDARD
DTSTART:20250724T123000
TZOFFSETFROM:+0000
TZOFFSETTO:+0000
END:STANDARD
END:VTIMEZONE
BEGIN:VEVENT
UID:513b2f02-5734-4cf9-9446-e6a045024caf-0
DTSTAMP:20260420T123000Z
SUMMARY:https://m-r-l.ch/evenement/rousseau-armenien/
DESCRIPTION:En 1762\, Rousseau choque ses contemporains avec l’adoption a
 brupte d’un vêtement\, la robe et le bonnet d’Arménien. Des peintres
  célèbres l’immortalisent « en Arménien ».
LOCATION:Grand-Rue 40\, 1204 Genève\, 1204 Genève\, Suisse
URL:https://www.geneve-communes.ch/agenda/httpsm-r-lchevenementrousseau-arm
 enien
DTSTART;TZID=Europe/Zurich:20260616T121500
DTEND;TZID=Europe/Zurich:20260616T131500
GEO:46.201352;6.146632
X-APPLE-STRUCTURED-LOCATION;VALUE=URI;X-ADDRESS=Grand-Rue 40\, 1204 Genève
 \, 1204 Genève\, Suisse;X-APPLE-RADIUS=72;X-TITLE=Maison de Rousseau et d
 e la Littérature:geo:46.201352,6.146632
END:VEVENT
END:VCALENDAR