BEGIN:VCALENDAR
VERSION:2.0
PRODID:-//Les communes genevoises//Agenda//FR
NAME:Les communes genevoises
X-WR-CALNAME:Les communes genevoises
BEGIN:VTIMEZONE
TZID:Europe/Zurich
BEGIN:STANDARD
DTSTART:20251026T030000
TZOFFSETFROM:+0200
TZOFFSETTO:+0100
END:STANDARD
BEGIN:DAYLIGHT
DTSTART:20260329T010000
TZOFFSETFROM:+0100
TZOFFSETTO:+0200
END:DAYLIGHT
BEGIN:STANDARD
DTSTART:20261025T030000
TZOFFSETFROM:+0200
TZOFFSETTO:+0100
END:STANDARD
END:VTIMEZONE
BEGIN:VTIMEZONE
TZID:UTC
BEGIN:STANDARD
DTSTART:20250724T111600
TZOFFSETFROM:+0000
TZOFFSETTO:+0000
END:STANDARD
END:VTIMEZONE
BEGIN:VEVENT
UID:c1f55d4a-730b-4023-a862-aa8da6aa9644-0
DTSTAMP:20260420T111600Z
SUMMARY:Audition de Chant | Ingrid Wildemann
DESCRIPTION:Les élèves de chant de l'eMa en scène.
LOCATION:Passage Marie-Claude-LEBURGUE 2\, 1205 Genève\, Suisse
URL:https://www.geneve-communes.ch/agenda/audition-de-chant-ingrid-wildeman
 n
DTSTART;TZID=Europe/Zurich:20260530T163000
DTEND;TZID=Europe/Zurich:20260530T180000
GEO:46.196804;6.136724
X-APPLE-STRUCTURED-LOCATION;VALUE=URI;X-ADDRESS=Passage Marie-Claude-LEBURG
 UE 2\, 1205 Genève\, Suisse;X-APPLE-RADIUS=72;X-TITLE=Le Chaudron - Centr
 e des Musiques Actuelles:geo:46.196804,6.136724
END:VEVENT
END:VCALENDAR