BEGIN:VCALENDAR
VERSION:2.0
PRODID:-//Les communes genevoises//Agenda//FR
NAME:Les communes genevoises
X-WR-CALNAME:Les communes genevoises
BEGIN:VTIMEZONE
TZID:Europe/Zurich
BEGIN:STANDARD
DTSTART:20261025T030000
TZOFFSETFROM:+0200
TZOFFSETTO:+0100
END:STANDARD
BEGIN:DAYLIGHT
DTSTART:20270328T010000
TZOFFSETFROM:+0100
TZOFFSETTO:+0200
END:DAYLIGHT
END:VTIMEZONE
BEGIN:VTIMEZONE
TZID:UTC
BEGIN:STANDARD
DTSTART:20250724T102800
TZOFFSETFROM:+0000
TZOFFSETTO:+0000
END:STANDARD
END:VTIMEZONE
BEGIN:VEVENT
UID:485cd318-cf67-46ef-a248-71466a82619c-0
DTSTAMP:20260420T102800Z
SUMMARY:MÉDINE
DESCRIPTION:Voix de Fête & TCO Prod présentent : Médine en concert à l'
 Alhambra\, le 22 janvier 2027
LOCATION:Rue de la Rôtisserie 10\, 1204 Genève\, 1204 Genève\, Suisse
URL:https://www.geneve-communes.ch/agenda/medine
DTSTART;TZID=Europe/Zurich:20270122T200000
DTEND;TZID=Europe/Zurich:20270122T220000
GEO:46.202758;6.146467
X-APPLE-STRUCTURED-LOCATION;VALUE=URI;X-ADDRESS=Rue de la Rôtisserie 10\, 
 1204 Genève\, 1204 Genève\, Suisse;X-APPLE-RADIUS=72;X-TITLE=Alhambra:ge
 o:46.202758,6.146467
END:VEVENT
END:VCALENDAR