BEGIN:VCALENDAR
VERSION:2.0
PRODID:-//Les communes genevoises//Agenda//FR
NAME:Les communes genevoises
X-WR-CALNAME:Les communes genevoises
BEGIN:VTIMEZONE
TZID:Europe/Zurich
BEGIN:STANDARD
DTSTART:20251026T030000
TZOFFSETFROM:+0200
TZOFFSETTO:+0100
END:STANDARD
BEGIN:DAYLIGHT
DTSTART:20260329T010000
TZOFFSETFROM:+0100
TZOFFSETTO:+0200
END:DAYLIGHT
BEGIN:STANDARD
DTSTART:20261025T030000
TZOFFSETFROM:+0200
TZOFFSETTO:+0100
END:STANDARD
END:VTIMEZONE
BEGIN:VTIMEZONE
TZID:UTC
BEGIN:STANDARD
DTSTART:20250724T094201
TZOFFSETFROM:+0000
TZOFFSETTO:+0000
END:STANDARD
END:VTIMEZONE
BEGIN:VEVENT
UID:1afef897-7480-4506-8d5b-653b9d710f02-0
DTSTAMP:20260420T094201Z
SUMMARY:Chrétiens en quête de puissance
DESCRIPTION:Conférence
LOCATION:Cour de Saint-Pierre 10\, 1204 Genève\, Suisse
URL:https://www.geneve-communes.ch/agenda/chretiens-en-quete-de-puissance
DTSTART;TZID=Europe/Zurich:20260519T183000
DTEND;TZID=Europe/Zurich:20260519T210000
GEO:46.201599;6.147939
X-APPLE-STRUCTURED-LOCATION;VALUE=URI;X-ADDRESS=Cour de Saint-Pierre 10\, 1
 204 Genève\, Suisse;X-APPLE-RADIUS=72;X-TITLE=Musée international de la 
 Réforme:geo:46.201599,6.147939
END:VEVENT
END:VCALENDAR