BEGIN:VCALENDAR
VERSION:2.0
PRODID:-//Les communes genevoises//Agenda//FR
NAME:Les communes genevoises
X-WR-CALNAME:Les communes genevoises
BEGIN:VTIMEZONE
TZID:Europe/Zurich
BEGIN:STANDARD
DTSTART:20251026T030000
TZOFFSETFROM:+0200
TZOFFSETTO:+0100
END:STANDARD
BEGIN:DAYLIGHT
DTSTART:20260329T010000
TZOFFSETFROM:+0100
TZOFFSETTO:+0200
END:DAYLIGHT
BEGIN:STANDARD
DTSTART:20261025T030000
TZOFFSETFROM:+0200
TZOFFSETTO:+0100
END:STANDARD
END:VTIMEZONE
BEGIN:VTIMEZONE
TZID:UTC
BEGIN:STANDARD
DTSTART:20250724T102800
TZOFFSETFROM:+0000
TZOFFSETTO:+0000
END:STANDARD
END:VTIMEZONE
BEGIN:VEVENT
UID:6a65ed29-9b25-4c97-b4f1-c404d9ee0b38-0
DTSTAMP:20260420T102800Z
SUMMARY:Festival MOS ESPA\, à la lueur de l'art
DESCRIPTION:Un festival à vivre à pieds nus et presque sans électricité
 . Motel Campo se mue dans un cocon d'art et de découverte\, avec une prog
 rammation pointue de musicien·nes et performeur·euses hors pair.
LOCATION:Genève\, 1204 Genève\, Suisse
URL:https://www.geneve-communes.ch/agenda/festival-mos-espa-la-lueur-de-lar
 t
DTSTART;TZID=Europe/Zurich:20260430T193000
DTEND;TZID=Europe/Zurich:20260430T235900
GEO:46.201756;6.146601
X-APPLE-STRUCTURED-LOCATION;VALUE=URI;X-ADDRESS=Genève\, 1204 Genève\, Su
 isse;X-APPLE-RADIUS=72;X-TITLE=Autre lieu:geo:46.201756,6.146601
END:VEVENT
BEGIN:VEVENT
UID:6a65ed29-9b25-4c97-b4f1-c404d9ee0b38-1
DTSTAMP:20260420T102800Z
SUMMARY:Festival MOS ESPA\, à la lueur de l'art
DESCRIPTION:Un festival à vivre à pieds nus et presque sans électricité
 . Motel Campo se mue dans un cocon d'art et de découverte\, avec une prog
 rammation pointue de musicien·nes et performeur·euses hors pair.
LOCATION:Genève\, 1204 Genève\, Suisse
URL:https://www.geneve-communes.ch/agenda/festival-mos-espa-la-lueur-de-lar
 t
DTSTART;TZID=Europe/Zurich:20260501T193000
DTEND;TZID=Europe/Zurich:20260501T235900
GEO:46.201756;6.146601
X-APPLE-STRUCTURED-LOCATION;VALUE=URI;X-ADDRESS=Genève\, 1204 Genève\, Su
 isse;X-APPLE-RADIUS=72;X-TITLE=Autre lieu:geo:46.201756,6.146601
END:VEVENT
BEGIN:VEVENT
UID:6a65ed29-9b25-4c97-b4f1-c404d9ee0b38-2
DTSTAMP:20260420T102800Z
SUMMARY:Festival MOS ESPA\, à la lueur de l'art
DESCRIPTION:Un festival à vivre à pieds nus et presque sans électricité
 . Motel Campo se mue dans un cocon d'art et de découverte\, avec une prog
 rammation pointue de musicien·nes et performeur·euses hors pair.
LOCATION:Genève\, 1204 Genève\, Suisse
URL:https://www.geneve-communes.ch/agenda/festival-mos-espa-la-lueur-de-lar
 t
DTSTART;TZID=Europe/Zurich:20260502T193000
DTEND;TZID=Europe/Zurich:20260502T235900
GEO:46.201756;6.146601
X-APPLE-STRUCTURED-LOCATION;VALUE=URI;X-ADDRESS=Genève\, 1204 Genève\, Su
 isse;X-APPLE-RADIUS=72;X-TITLE=Autre lieu:geo:46.201756,6.146601
END:VEVENT
END:VCALENDAR