BEGIN:VCALENDAR
VERSION:2.0
PRODID:-//Les communes genevoises//Agenda//FR
NAME:Les communes genevoises
X-WR-CALNAME:Les communes genevoises
BEGIN:VTIMEZONE
TZID:Europe/Zurich
BEGIN:STANDARD
DTSTART:20251026T030000
TZOFFSETFROM:+0200
TZOFFSETTO:+0100
END:STANDARD
BEGIN:DAYLIGHT
DTSTART:20260329T010000
TZOFFSETFROM:+0100
TZOFFSETTO:+0200
END:DAYLIGHT
BEGIN:STANDARD
DTSTART:20261025T030000
TZOFFSETFROM:+0200
TZOFFSETTO:+0100
END:STANDARD
END:VTIMEZONE
BEGIN:VTIMEZONE
TZID:UTC
BEGIN:STANDARD
DTSTART:20250724T080600
TZOFFSETFROM:+0000
TZOFFSETTO:+0000
END:STANDARD
END:VTIMEZONE
BEGIN:VEVENT
UID:a6f1539c-d945-4497-a3e1-470529dedaf5-0
DTSTAMP:20260420T080600Z
SUMMARY:Caustic Comedy Club à La Canopée
DESCRIPTION:Durant tout l'été\, venez profiter chaque jeudi soir d'un pla
 teau d'humour installé sous La Canopée. Une programmation proposée pour
  le Caustic Comedy Club.
LOCATION:Genève\, 1207 Genève\, Suisse
URL:https://www.geneve-communes.ch/agenda/caustic-comedy-club-la-canopee
DTSTART;TZID=Europe/Zurich:20260702T190000
DTEND;TZID=Europe/Zurich:20260702T200000
GEO:46.208087;6.162954
X-APPLE-STRUCTURED-LOCATION;VALUE=URI;X-ADDRESS=Genève\, 1207 Genève\, Su
 isse;X-APPLE-RADIUS=72;X-TITLE=La Canopée:geo:46.208087,6.162954
END:VEVENT
BEGIN:VEVENT
UID:a6f1539c-d945-4497-a3e1-470529dedaf5-1
DTSTAMP:20260420T080600Z
SUMMARY:Caustic Comedy Club à La Canopée
DESCRIPTION:Durant tout l'été\, venez profiter chaque jeudi soir d'un pla
 teau d'humour installé sous La Canopée. Une programmation proposée pour
  le Caustic Comedy Club.
LOCATION:Genève\, 1207 Genève\, Suisse
URL:https://www.geneve-communes.ch/agenda/caustic-comedy-club-la-canopee
DTSTART;TZID=Europe/Zurich:20260709T190000
DTEND;TZID=Europe/Zurich:20260709T200000
GEO:46.208087;6.162954
X-APPLE-STRUCTURED-LOCATION;VALUE=URI;X-ADDRESS=Genève\, 1207 Genève\, Su
 isse;X-APPLE-RADIUS=72;X-TITLE=La Canopée:geo:46.208087,6.162954
END:VEVENT
BEGIN:VEVENT
UID:a6f1539c-d945-4497-a3e1-470529dedaf5-2
DTSTAMP:20260420T080600Z
SUMMARY:Caustic Comedy Club à La Canopée
DESCRIPTION:Durant tout l'été\, venez profiter chaque jeudi soir d'un pla
 teau d'humour installé sous La Canopée. Une programmation proposée pour
  le Caustic Comedy Club.
LOCATION:Genève\, 1207 Genève\, Suisse
URL:https://www.geneve-communes.ch/agenda/caustic-comedy-club-la-canopee
DTSTART;TZID=Europe/Zurich:20260716T190000
DTEND;TZID=Europe/Zurich:20260716T200000
GEO:46.208087;6.162954
X-APPLE-STRUCTURED-LOCATION;VALUE=URI;X-ADDRESS=Genève\, 1207 Genève\, Su
 isse;X-APPLE-RADIUS=72;X-TITLE=La Canopée:geo:46.208087,6.162954
END:VEVENT
BEGIN:VEVENT
UID:a6f1539c-d945-4497-a3e1-470529dedaf5-3
DTSTAMP:20260420T080600Z
SUMMARY:Caustic Comedy Club à La Canopée
DESCRIPTION:Durant tout l'été\, venez profiter chaque jeudi soir d'un pla
 teau d'humour installé sous La Canopée. Une programmation proposée pour
  le Caustic Comedy Club.
LOCATION:Genève\, 1207 Genève\, Suisse
URL:https://www.geneve-communes.ch/agenda/caustic-comedy-club-la-canopee
DTSTART;TZID=Europe/Zurich:20260723T190000
DTEND;TZID=Europe/Zurich:20260723T200000
GEO:46.208087;6.162954
X-APPLE-STRUCTURED-LOCATION;VALUE=URI;X-ADDRESS=Genève\, 1207 Genève\, Su
 isse;X-APPLE-RADIUS=72;X-TITLE=La Canopée:geo:46.208087,6.162954
END:VEVENT
BEGIN:VEVENT
UID:a6f1539c-d945-4497-a3e1-470529dedaf5-4
DTSTAMP:20260420T080600Z
SUMMARY:Caustic Comedy Club à La Canopée
DESCRIPTION:Durant tout l'été\, venez profiter chaque jeudi soir d'un pla
 teau d'humour installé sous La Canopée. Une programmation proposée pour
  le Caustic Comedy Club.
LOCATION:Genève\, 1207 Genève\, Suisse
URL:https://www.geneve-communes.ch/agenda/caustic-comedy-club-la-canopee
DTSTART;TZID=Europe/Zurich:20260730T190000
DTEND;TZID=Europe/Zurich:20260730T200000
GEO:46.208087;6.162954
X-APPLE-STRUCTURED-LOCATION;VALUE=URI;X-ADDRESS=Genève\, 1207 Genève\, Su
 isse;X-APPLE-RADIUS=72;X-TITLE=La Canopée:geo:46.208087,6.162954
END:VEVENT
BEGIN:VEVENT
UID:a6f1539c-d945-4497-a3e1-470529dedaf5-5
DTSTAMP:20260420T080600Z
SUMMARY:Caustic Comedy Club à La Canopée
DESCRIPTION:Durant tout l'été\, venez profiter chaque jeudi soir d'un pla
 teau d'humour installé sous La Canopée. Une programmation proposée pour
  le Caustic Comedy Club.
LOCATION:Genève\, 1207 Genève\, Suisse
URL:https://www.geneve-communes.ch/agenda/caustic-comedy-club-la-canopee
DTSTART;TZID=Europe/Zurich:20260806T190000
DTEND;TZID=Europe/Zurich:20260806T200000
GEO:46.208087;6.162954
X-APPLE-STRUCTURED-LOCATION;VALUE=URI;X-ADDRESS=Genève\, 1207 Genève\, Su
 isse;X-APPLE-RADIUS=72;X-TITLE=La Canopée:geo:46.208087,6.162954
END:VEVENT
END:VCALENDAR