BEGIN:VCALENDAR
VERSION:2.0
PRODID:-//Les communes genevoises//Agenda//FR
NAME:Les communes genevoises
X-WR-CALNAME:Les communes genevoises
BEGIN:VTIMEZONE
TZID:Europe/Zurich
BEGIN:STANDARD
DTSTART:20251026T030000
TZOFFSETFROM:+0200
TZOFFSETTO:+0100
END:STANDARD
BEGIN:DAYLIGHT
DTSTART:20260329T010000
TZOFFSETFROM:+0100
TZOFFSETTO:+0200
END:DAYLIGHT
BEGIN:STANDARD
DTSTART:20261025T030000
TZOFFSETFROM:+0200
TZOFFSETTO:+0100
END:STANDARD
END:VTIMEZONE
BEGIN:VTIMEZONE
TZID:UTC
BEGIN:STANDARD
DTSTART:20250724T064600
TZOFFSETFROM:+0000
TZOFFSETTO:+0000
END:STANDARD
END:VTIMEZONE
BEGIN:VEVENT
UID:c64fb538-a82a-4350-950d-632181a33d24-0
DTSTAMP:20260420T064600Z
SUMMARY:Fête de la musique
DESCRIPTION:Petit-déjeuner en musique sous la Pergola
LOCATION:Promenade de la Pergola\, 1232 Genève\, Suisse
URL:https://www.geneve-communes.ch/agenda/fete-de-la-musique
DTSTART;TZID=Europe/Zurich:20260620T090000
DTEND;TZID=Europe/Zurich:20260620T120000
GEO:46.169743;6.08834
X-APPLE-STRUCTURED-LOCATION;VALUE=URI;X-ADDRESS=Promenade de la Pergola\, 1
 232 Genève\, Suisse;X-APPLE-RADIUS=72;X-TITLE=Bord de l'Aire\, sous la Pe
 rgola:geo:46.169743,6.08834
END:VEVENT
END:VCALENDAR