BEGIN:VCALENDAR
VERSION:2.0
PRODID:-//Les communes genevoises//Agenda//FR
NAME:Les communes genevoises
X-WR-CALNAME:Les communes genevoises
BEGIN:VTIMEZONE
TZID:Europe/Zurich
BEGIN:STANDARD
DTSTART:20251026T030000
TZOFFSETFROM:+0200
TZOFFSETTO:+0100
END:STANDARD
BEGIN:DAYLIGHT
DTSTART:20260329T010000
TZOFFSETFROM:+0100
TZOFFSETTO:+0200
END:DAYLIGHT
BEGIN:STANDARD
DTSTART:20261025T030000
TZOFFSETFROM:+0200
TZOFFSETTO:+0100
END:STANDARD
END:VTIMEZONE
BEGIN:VTIMEZONE
TZID:UTC
BEGIN:STANDARD
DTSTART:20250723T214000
TZOFFSETFROM:+0000
TZOFFSETTO:+0000
END:STANDARD
END:VTIMEZONE
BEGIN:VEVENT
UID:ff8a1a3c-a9ed-4335-a66f-dd9f059367ae-0
DTSTAMP:20260419T214000Z
SUMMARY:ALL STYLE NIGHT
DESCRIPTION:Une soirée All Style pour danser jusqu’au bout de la nuit.
LOCATION:Avenue de la Jonction 19\, 1205 Genève\, 1235 Genève\, Suisse
URL:https://www.geneve-communes.ch/agenda/all-style-night
DTSTART;TZID=Europe/Zurich:20260425T230000
DTEND;TZID=Europe/Zurich:20260425T235900
GEO:46.201239;6.125572
X-APPLE-STRUCTURED-LOCATION;VALUE=URI;X-ADDRESS=Avenue de la Jonction 19\, 
 1205 Genève\, 1235 Genève\, Suisse;X-APPLE-RADIUS=72;X-TITLE=Usine Kugle
 r:geo:46.201239,6.125572
END:VEVENT
BEGIN:VEVENT
UID:ff8a1a3c-a9ed-4335-a66f-dd9f059367ae-1
DTSTAMP:20260419T214000Z
SUMMARY:ALL STYLE NIGHT
DESCRIPTION:Une soirée All Style pour danser jusqu’au bout de la nuit.
LOCATION:Avenue de la Jonction 19\, 1205 Genève\, 1235 Genève\, Suisse
URL:https://www.geneve-communes.ch/agenda/all-style-night
DTSTART;TZID=Europe/Zurich:20260426T000000
DTEND;TZID=Europe/Zurich:20260426T060000
GEO:46.201239;6.125572
X-APPLE-STRUCTURED-LOCATION;VALUE=URI;X-ADDRESS=Avenue de la Jonction 19\, 
 1205 Genève\, 1235 Genève\, Suisse;X-APPLE-RADIUS=72;X-TITLE=Usine Kugle
 r:geo:46.201239,6.125572
END:VEVENT
END:VCALENDAR