BEGIN:VCALENDAR
VERSION:2.0
PRODID:-//Les communes genevoises//Agenda//FR
NAME:Les communes genevoises
X-WR-CALNAME:Les communes genevoises
BEGIN:VTIMEZONE
TZID:Europe/Zurich
BEGIN:STANDARD
DTSTART:20251026T030000
TZOFFSETFROM:+0200
TZOFFSETTO:+0100
END:STANDARD
BEGIN:DAYLIGHT
DTSTART:20260329T010000
TZOFFSETFROM:+0100
TZOFFSETTO:+0200
END:DAYLIGHT
BEGIN:STANDARD
DTSTART:20261025T030000
TZOFFSETFROM:+0200
TZOFFSETTO:+0100
END:STANDARD
END:VTIMEZONE
BEGIN:VTIMEZONE
TZID:UTC
BEGIN:STANDARD
DTSTART:20250720T080800
TZOFFSETFROM:+0000
TZOFFSETTO:+0000
END:STANDARD
END:VTIMEZONE
BEGIN:VEVENT
UID:f54fa2ac-b4fa-4b2c-9215-df6d66214e2e-0
DTSTAMP:20260416T080800Z
SUMMARY:Yvan Ischer Scorpio 11
DESCRIPTION:Concert de Yvan Ischer \"Scorpio 11\" à l'AMR à 21h
LOCATION:Rue des Alpes 10\, 1201 Genève\, Suisse
URL:https://www.geneve-communes.ch/agenda/yvan-ischer-scorpio-11
DTSTART;TZID=Europe/Zurich:20260508T210000
DTEND;TZID=Europe/Zurich:20260508T230000
GEO:46.209708;6.145783
X-APPLE-STRUCTURED-LOCATION;VALUE=URI;X-ADDRESS=Rue des Alpes 10\, 1201 Gen
 ève\, Suisse;X-APPLE-RADIUS=72;X-TITLE=AMR / Sud des Alpes:geo:46.209708,
 6.145783
END:VEVENT
END:VCALENDAR