BEGIN:VCALENDAR
VERSION:2.0
PRODID:-//Les communes genevoises//Agenda//FR
NAME:Les communes genevoises
X-WR-CALNAME:Les communes genevoises
BEGIN:VTIMEZONE
TZID:Europe/Zurich
BEGIN:STANDARD
DTSTART:20251026T030000
TZOFFSETFROM:+0200
TZOFFSETTO:+0100
END:STANDARD
BEGIN:DAYLIGHT
DTSTART:20260329T010000
TZOFFSETFROM:+0100
TZOFFSETTO:+0200
END:DAYLIGHT
BEGIN:STANDARD
DTSTART:20261025T030000
TZOFFSETFROM:+0200
TZOFFSETTO:+0100
END:STANDARD
END:VTIMEZONE
BEGIN:VTIMEZONE
TZID:UTC
BEGIN:STANDARD
DTSTART:20250717T075400
TZOFFSETFROM:+0000
TZOFFSETTO:+0000
END:STANDARD
END:VTIMEZONE
BEGIN:VEVENT
UID:0265f38c-4fe3-4c31-a527-8199ae7b9894-0
DTSTAMP:20260413T075400Z
SUMMARY:Mercredis de la petite enfance | Atelier danse en famille
DESCRIPTION:Les mercredis de la petite enfance vous offrent diverses activi
 tés pour les enfants sur la commune.
LOCATION:avenue grand salève 4 veyrier\, 1255 Genève\, Suisse
URL:https://www.geneve-communes.ch/agenda/mercredis-de-la-petite-enfance-at
 elier-danse-en-famille
DTSTART;TZID=Europe/Zurich:20260506T090000
DTEND;TZID=Europe/Zurich:20260506T103000
GEO:46.166773;6.182031
X-APPLE-STRUCTURED-LOCATION;VALUE=URI;X-ADDRESS=avenue grand salève 4 veyr
 ier\, 1255 Genève\, Suisse;X-APPLE-RADIUS=72;X-TITLE=Grand Salève:geo:46
 .166773,6.182031
END:VEVENT
END:VCALENDAR