BEGIN:VCALENDAR
VERSION:2.0
PRODID:-//Les communes genevoises//Agenda//FR
NAME:Les communes genevoises
X-WR-CALNAME:Les communes genevoises
BEGIN:VTIMEZONE
TZID:Europe/Zurich
BEGIN:STANDARD
DTSTART:20251026T030000
TZOFFSETFROM:+0200
TZOFFSETTO:+0100
END:STANDARD
BEGIN:DAYLIGHT
DTSTART:20260329T010000
TZOFFSETFROM:+0100
TZOFFSETTO:+0200
END:DAYLIGHT
BEGIN:STANDARD
DTSTART:20261025T030000
TZOFFSETFROM:+0200
TZOFFSETTO:+0100
END:STANDARD
END:VTIMEZONE
BEGIN:VTIMEZONE
TZID:UTC
BEGIN:STANDARD
DTSTART:20250716T083801
TZOFFSETFROM:+0000
TZOFFSETTO:+0000
END:STANDARD
END:VTIMEZONE
BEGIN:VEVENT
UID:cef654eb-1059-4ded-9953-4a305761c448-0
DTSTAMP:20260412T083801Z
SUMMARY:Gli Angeli Genève
DESCRIPTION:Pour clôturer le Festival Haydn-Mozart\, Gli Angeli Genève in
 terprétera le Stabat Mater de Haydn au Victoria Hall le 15 juin 2026. Le
  concert sera présenté à 19h15.
LOCATION:Rue du Général-DUFOUR 14\, 1204 Genève\, 1204 Genève\, Suisse
URL:https://www.geneve-communes.ch/agenda/gli-angeli-geneve-1
DTSTART;TZID=Europe/Zurich:20260615T200000
DTEND;TZID=Europe/Zurich:20260615T213000
GEO:46.201527;6.141408
X-APPLE-STRUCTURED-LOCATION;VALUE=URI;X-ADDRESS=Rue du Général-DUFOUR 14\
 , 1204 Genève\, 1204 Genève\, Suisse;X-APPLE-RADIUS=72;X-TITLE=Victoria 
 Hall:geo:46.201527,6.141408
END:VEVENT
END:VCALENDAR