BEGIN:VCALENDAR
VERSION:2.0
PRODID:-//Les communes genevoises//Agenda//FR
NAME:Les communes genevoises
X-WR-CALNAME:Les communes genevoises
BEGIN:VTIMEZONE
TZID:Europe/Zurich
BEGIN:STANDARD
DTSTART:20251026T030000
TZOFFSETFROM:+0200
TZOFFSETTO:+0100
END:STANDARD
BEGIN:DAYLIGHT
DTSTART:20260329T010000
TZOFFSETFROM:+0100
TZOFFSETTO:+0200
END:DAYLIGHT
BEGIN:STANDARD
DTSTART:20261025T030000
TZOFFSETFROM:+0200
TZOFFSETTO:+0100
END:STANDARD
END:VTIMEZONE
BEGIN:VTIMEZONE
TZID:UTC
BEGIN:STANDARD
DTSTART:20250716T083801
TZOFFSETFROM:+0000
TZOFFSETTO:+0000
END:STANDARD
END:VTIMEZONE
BEGIN:VEVENT
UID:fed44b63-2599-4a51-b86e-92ba0e0fbaf5-0
DTSTAMP:20260412T083801Z
SUMMARY:Wasted Land - Ntando Cele
DESCRIPTION:\"Wasted Land\" de Ntando Cele à la Maison Saint-Gervais du 10
  au 13 juin 2026
LOCATION:Rue du Temple 5 1201 Genève\, Suisse\, 1201 Genève\, Suisse
URL:https://www.geneve-communes.ch/agenda/wasted-land-ntando-cele
DTSTART;TZID=Europe/Zurich:20260610T190000
DTEND;TZID=Europe/Zurich:20260610T200000
GEO:46.206263;6.14053
X-APPLE-STRUCTURED-LOCATION;VALUE=URI;X-ADDRESS=Rue du Temple 5 1201 Genèv
 e\, Suisse\, 1201 Genève\, Suisse;X-APPLE-RADIUS=72;X-TITLE=Saint-Gervais
  Genève:geo:46.206263,6.14053
END:VEVENT
BEGIN:VEVENT
UID:fed44b63-2599-4a51-b86e-92ba0e0fbaf5-1
DTSTAMP:20260412T083801Z
SUMMARY:Wasted Land - Ntando Cele
DESCRIPTION:\"Wasted Land\" de Ntando Cele à la Maison Saint-Gervais du 10
  au 13 juin 2026
LOCATION:Rue du Temple 5 1201 Genève\, Suisse\, 1201 Genève\, Suisse
URL:https://www.geneve-communes.ch/agenda/wasted-land-ntando-cele
DTSTART;TZID=Europe/Zurich:20260611T190000
DTEND;TZID=Europe/Zurich:20260611T200000
GEO:46.206263;6.14053
X-APPLE-STRUCTURED-LOCATION;VALUE=URI;X-ADDRESS=Rue du Temple 5 1201 Genèv
 e\, Suisse\, 1201 Genève\, Suisse;X-APPLE-RADIUS=72;X-TITLE=Saint-Gervais
  Genève:geo:46.206263,6.14053
END:VEVENT
BEGIN:VEVENT
UID:fed44b63-2599-4a51-b86e-92ba0e0fbaf5-2
DTSTAMP:20260412T083801Z
SUMMARY:Wasted Land - Ntando Cele
DESCRIPTION:\"Wasted Land\" de Ntando Cele à la Maison Saint-Gervais du 10
  au 13 juin 2026
LOCATION:Rue du Temple 5 1201 Genève\, Suisse\, 1201 Genève\, Suisse
URL:https://www.geneve-communes.ch/agenda/wasted-land-ntando-cele
DTSTART;TZID=Europe/Zurich:20260612T203000
DTEND;TZID=Europe/Zurich:20260612T213000
GEO:46.206263;6.14053
X-APPLE-STRUCTURED-LOCATION;VALUE=URI;X-ADDRESS=Rue du Temple 5 1201 Genèv
 e\, Suisse\, 1201 Genève\, Suisse;X-APPLE-RADIUS=72;X-TITLE=Saint-Gervais
  Genève:geo:46.206263,6.14053
END:VEVENT
BEGIN:VEVENT
UID:fed44b63-2599-4a51-b86e-92ba0e0fbaf5-3
DTSTAMP:20260412T083801Z
SUMMARY:Wasted Land - Ntando Cele
DESCRIPTION:\"Wasted Land\" de Ntando Cele à la Maison Saint-Gervais du 10
  au 13 juin 2026
LOCATION:Rue du Temple 5 1201 Genève\, Suisse\, 1201 Genève\, Suisse
URL:https://www.geneve-communes.ch/agenda/wasted-land-ntando-cele
DTSTART;TZID=Europe/Zurich:20260613T190000
DTEND;TZID=Europe/Zurich:20260613T200000
GEO:46.206263;6.14053
X-APPLE-STRUCTURED-LOCATION;VALUE=URI;X-ADDRESS=Rue du Temple 5 1201 Genèv
 e\, Suisse\, 1201 Genève\, Suisse;X-APPLE-RADIUS=72;X-TITLE=Saint-Gervais
  Genève:geo:46.206263,6.14053
END:VEVENT
END:VCALENDAR