BEGIN:VCALENDAR
VERSION:2.0
PRODID:-//Les communes genevoises//Agenda//FR
NAME:Les communes genevoises
X-WR-CALNAME:Les communes genevoises
BEGIN:VTIMEZONE
TZID:Europe/Zurich
BEGIN:STANDARD
DTSTART:20251026T030000
TZOFFSETFROM:+0200
TZOFFSETTO:+0100
END:STANDARD
BEGIN:DAYLIGHT
DTSTART:20260329T010000
TZOFFSETFROM:+0100
TZOFFSETTO:+0200
END:DAYLIGHT
BEGIN:STANDARD
DTSTART:20261025T030000
TZOFFSETFROM:+0200
TZOFFSETTO:+0100
END:STANDARD
END:VTIMEZONE
BEGIN:VTIMEZONE
TZID:UTC
BEGIN:STANDARD
DTSTART:20250716T083801
TZOFFSETFROM:+0000
TZOFFSETTO:+0000
END:STANDARD
END:VTIMEZONE
BEGIN:VEVENT
UID:fff02b4b-acec-4a28-a009-a30fd28ef512-0
DTSTAMP:20260412T083801Z
SUMMARY:Gli Angeli Genève
DESCRIPTION:Dans le cadre du Festival Haydn-Mozart\, Gli Angeli Genève int
 erprétera Orfeo ed Euridice de Gluck (opéra en version de concert) le ma
 rdi 9 juin 2026 à 20h. Le concert sera présenté à 19h15.
LOCATION:Rue du Général-DUFOUR 14\, 1204 Genève\, 1204 Genève\, Suisse
URL:https://www.geneve-communes.ch/agenda/gli-angeli-geneve-0
DTSTART;TZID=Europe/Zurich:20260609T200000
DTEND;TZID=Europe/Zurich:20260609T213000
GEO:46.201527;6.141408
X-APPLE-STRUCTURED-LOCATION;VALUE=URI;X-ADDRESS=Rue du Général-DUFOUR 14\
 , 1204 Genève\, 1204 Genève\, Suisse;X-APPLE-RADIUS=72;X-TITLE=Victoria 
 Hall:geo:46.201527,6.141408
END:VEVENT
END:VCALENDAR