BEGIN:VCALENDAR
VERSION:2.0
PRODID:-//Les communes genevoises//Agenda//FR
NAME:Les communes genevoises
X-WR-CALNAME:Les communes genevoises
BEGIN:VTIMEZONE
TZID:Europe/Zurich
BEGIN:STANDARD
DTSTART:20251026T030000
TZOFFSETFROM:+0200
TZOFFSETTO:+0100
END:STANDARD
BEGIN:DAYLIGHT
DTSTART:20260329T010000
TZOFFSETFROM:+0100
TZOFFSETTO:+0200
END:DAYLIGHT
BEGIN:STANDARD
DTSTART:20261025T030000
TZOFFSETFROM:+0200
TZOFFSETTO:+0100
END:STANDARD
END:VTIMEZONE
BEGIN:VTIMEZONE
TZID:UTC
BEGIN:STANDARD
DTSTART:20250716T083801
TZOFFSETFROM:+0000
TZOFFSETTO:+0000
END:STANDARD
END:VTIMEZONE
BEGIN:VEVENT
UID:3ebb1616-8e72-48fb-b86b-06cb30f2fa8e-0
DTSTAMP:20260412T083801Z
SUMMARY:It's got legs!!!!!! - Samir Kennedy et Sean Murray
DESCRIPTION:\"It's got legs!!!!!!\" de Samir Kennedy et Sean Murray à la M
 aison Saint-Gervais du 3 au 5 juin 2026
LOCATION:Rue du Temple 5 1201 Genève\, Suisse\, 1201 Genève\, Suisse
URL:https://www.geneve-communes.ch/agenda/its-got-legs-samir-kennedy-et-sea
 n-murray
DTSTART;TZID=Europe/Zurich:20260603T190000
DTEND;TZID=Europe/Zurich:20260603T200000
GEO:46.206263;6.14053
X-APPLE-STRUCTURED-LOCATION;VALUE=URI;X-ADDRESS=Rue du Temple 5 1201 Genèv
 e\, Suisse\, 1201 Genève\, Suisse;X-APPLE-RADIUS=72;X-TITLE=Saint-Gervais
  Genève:geo:46.206263,6.14053
END:VEVENT
BEGIN:VEVENT
UID:3ebb1616-8e72-48fb-b86b-06cb30f2fa8e-1
DTSTAMP:20260412T083801Z
SUMMARY:It's got legs!!!!!! - Samir Kennedy et Sean Murray
DESCRIPTION:\"It's got legs!!!!!!\" de Samir Kennedy et Sean Murray à la M
 aison Saint-Gervais du 3 au 5 juin 2026
LOCATION:Rue du Temple 5 1201 Genève\, Suisse\, 1201 Genève\, Suisse
URL:https://www.geneve-communes.ch/agenda/its-got-legs-samir-kennedy-et-sea
 n-murray
DTSTART;TZID=Europe/Zurich:20260604T203000
DTEND;TZID=Europe/Zurich:20260604T213000
GEO:46.206263;6.14053
X-APPLE-STRUCTURED-LOCATION;VALUE=URI;X-ADDRESS=Rue du Temple 5 1201 Genèv
 e\, Suisse\, 1201 Genève\, Suisse;X-APPLE-RADIUS=72;X-TITLE=Saint-Gervais
  Genève:geo:46.206263,6.14053
END:VEVENT
BEGIN:VEVENT
UID:3ebb1616-8e72-48fb-b86b-06cb30f2fa8e-2
DTSTAMP:20260412T083801Z
SUMMARY:It's got legs!!!!!! - Samir Kennedy et Sean Murray
DESCRIPTION:\"It's got legs!!!!!!\" de Samir Kennedy et Sean Murray à la M
 aison Saint-Gervais du 3 au 5 juin 2026
LOCATION:Rue du Temple 5 1201 Genève\, Suisse\, 1201 Genève\, Suisse
URL:https://www.geneve-communes.ch/agenda/its-got-legs-samir-kennedy-et-sea
 n-murray
DTSTART;TZID=Europe/Zurich:20260605T190000
DTEND;TZID=Europe/Zurich:20260605T200000
GEO:46.206263;6.14053
X-APPLE-STRUCTURED-LOCATION;VALUE=URI;X-ADDRESS=Rue du Temple 5 1201 Genèv
 e\, Suisse\, 1201 Genève\, Suisse;X-APPLE-RADIUS=72;X-TITLE=Saint-Gervais
  Genève:geo:46.206263,6.14053
END:VEVENT
END:VCALENDAR