BEGIN:VCALENDAR
VERSION:2.0
PRODID:-//Les communes genevoises//Agenda//FR
NAME:Les communes genevoises
X-WR-CALNAME:Les communes genevoises
BEGIN:VTIMEZONE
TZID:Europe/Zurich
BEGIN:STANDARD
DTSTART:20251026T030000
TZOFFSETFROM:+0200
TZOFFSETTO:+0100
END:STANDARD
BEGIN:DAYLIGHT
DTSTART:20260329T010000
TZOFFSETFROM:+0100
TZOFFSETTO:+0200
END:DAYLIGHT
BEGIN:STANDARD
DTSTART:20261025T030000
TZOFFSETFROM:+0200
TZOFFSETTO:+0100
END:STANDARD
END:VTIMEZONE
BEGIN:VTIMEZONE
TZID:UTC
BEGIN:STANDARD
DTSTART:20250725T072200
TZOFFSETFROM:+0000
TZOFFSETTO:+0000
END:STANDARD
END:VTIMEZONE
BEGIN:VEVENT
UID:a45f4fc0-144a-47db-8ad3-f7201eed0686-0
DTSTAMP:20260421T072200Z
SUMMARY:Nuit des Musées 2026 au MEG
DESCRIPTION:Rendez-vous au MEG pour découvrir un programme joyeux\, ludiqu
 e et festif! Le samedi 30 mai de 18h à 00h.
LOCATION:Boulevard Carl-VOGT 65\, 1205 Genève\, 1200 Genève\, Suisse
URL:https://www.geneve-communes.ch/agenda/nuit-des-musees-2026-au-meg
DTSTART;TZID=Europe/Zurich:20260530T180000
DTEND;TZID=Europe/Zurich:20260530T235900
GEO:46.197805;6.136786
X-APPLE-STRUCTURED-LOCATION;VALUE=URI;X-ADDRESS=Boulevard Carl-VOGT 65\, 12
 05 Genève\, 1200 Genève\, Suisse;X-APPLE-RADIUS=72;X-TITLE=MEG:geo:46.19
 7805,6.136786
END:VEVENT
END:VCALENDAR