BEGIN:VCALENDAR
VERSION:2.0
PRODID:-//Les communes genevoises//Agenda//FR
NAME:Les communes genevoises
X-WR-CALNAME:Les communes genevoises
BEGIN:VTIMEZONE
TZID:Europe/Zurich
BEGIN:DAYLIGHT
DTSTART:20250330T010000
TZOFFSETFROM:+0100
TZOFFSETTO:+0200
END:DAYLIGHT
BEGIN:STANDARD
DTSTART:20251026T030000
TZOFFSETFROM:+0200
TZOFFSETTO:+0100
END:STANDARD
BEGIN:DAYLIGHT
DTSTART:20260329T010000
TZOFFSETFROM:+0100
TZOFFSETTO:+0200
END:DAYLIGHT
BEGIN:STANDARD
DTSTART:20261025T030000
TZOFFSETFROM:+0200
TZOFFSETTO:+0100
END:STANDARD
END:VTIMEZONE
BEGIN:VTIMEZONE
TZID:UTC
BEGIN:STANDARD
DTSTART:20250716T083600
TZOFFSETFROM:+0000
TZOFFSETTO:+0000
END:STANDARD
END:VTIMEZONE
BEGIN:VEVENT
UID:ae2c9aaf-07ba-4c41-a50b-4c28b62524c4-0
DTSTAMP:20260412T083600Z
SUMMARY:Soirée Jeux
DESCRIPTION:Des soirées jeux pour les adultes dès 16 ans à la ludothèqu
 e 1-2-3...Planète!
LOCATION:Avenue d'Aïre 42\, 1203 Genève\, 1203 Genève\, Suisse
URL:https://www.geneve-communes.ch/agenda/soiree-jeux-0
DTSTART;TZID=Europe/Zurich:20250926T200000
DTEND;TZID=Europe/Zurich:20250926T223000
GEO:46.207513;6.12187
X-APPLE-STRUCTURED-LOCATION;VALUE=URI;X-ADDRESS=Avenue d'Aïre 42\, 1203 Ge
 nève\, 1203 Genève\, Suisse;X-APPLE-RADIUS=72;X-TITLE=Ludothèque «1-2-
 3 ... Planète!»:geo:46.207513,6.12187
END:VEVENT
BEGIN:VEVENT
UID:ae2c9aaf-07ba-4c41-a50b-4c28b62524c4-1
DTSTAMP:20260412T083600Z
SUMMARY:Soirée Jeux
DESCRIPTION:Des soirées jeux pour les adultes dès 16 ans à la ludothèqu
 e 1-2-3...Planète!
LOCATION:Avenue d'Aïre 42\, 1203 Genève\, 1203 Genève\, Suisse
URL:https://www.geneve-communes.ch/agenda/soiree-jeux-0
DTSTART;TZID=Europe/Zurich:20251128T200000
DTEND;TZID=Europe/Zurich:20251128T223000
GEO:46.207513;6.12187
X-APPLE-STRUCTURED-LOCATION;VALUE=URI;X-ADDRESS=Avenue d'Aïre 42\, 1203 Ge
 nève\, 1203 Genève\, Suisse;X-APPLE-RADIUS=72;X-TITLE=Ludothèque «1-2-
 3 ... Planète!»:geo:46.207513,6.12187
END:VEVENT
BEGIN:VEVENT
UID:ae2c9aaf-07ba-4c41-a50b-4c28b62524c4-2
DTSTAMP:20260412T083600Z
SUMMARY:Soirée Jeux
DESCRIPTION:Des soirées jeux pour les adultes dès 16 ans à la ludothèqu
 e 1-2-3...Planète!
LOCATION:Avenue d'Aïre 42\, 1203 Genève\, 1203 Genève\, Suisse
URL:https://www.geneve-communes.ch/agenda/soiree-jeux-0
DTSTART;TZID=Europe/Zurich:20260130T200000
DTEND;TZID=Europe/Zurich:20260130T223000
GEO:46.207513;6.12187
X-APPLE-STRUCTURED-LOCATION;VALUE=URI;X-ADDRESS=Avenue d'Aïre 42\, 1203 Ge
 nève\, 1203 Genève\, Suisse;X-APPLE-RADIUS=72;X-TITLE=Ludothèque «1-2-
 3 ... Planète!»:geo:46.207513,6.12187
END:VEVENT
BEGIN:VEVENT
UID:ae2c9aaf-07ba-4c41-a50b-4c28b62524c4-3
DTSTAMP:20260412T083600Z
SUMMARY:Soirée Jeux
DESCRIPTION:Des soirées jeux pour les adultes dès 16 ans à la ludothèqu
 e 1-2-3...Planète!
LOCATION:Avenue d'Aïre 42\, 1203 Genève\, 1203 Genève\, Suisse
URL:https://www.geneve-communes.ch/agenda/soiree-jeux-0
DTSTART;TZID=Europe/Zurich:20260327T200000
DTEND;TZID=Europe/Zurich:20260327T223000
GEO:46.207513;6.12187
X-APPLE-STRUCTURED-LOCATION;VALUE=URI;X-ADDRESS=Avenue d'Aïre 42\, 1203 Ge
 nève\, 1203 Genève\, Suisse;X-APPLE-RADIUS=72;X-TITLE=Ludothèque «1-2-
 3 ... Planète!»:geo:46.207513,6.12187
END:VEVENT
BEGIN:VEVENT
UID:ae2c9aaf-07ba-4c41-a50b-4c28b62524c4-4
DTSTAMP:20260412T083600Z
SUMMARY:Soirée Jeux
DESCRIPTION:Des soirées jeux pour les adultes dès 16 ans à la ludothèqu
 e 1-2-3...Planète!
LOCATION:Avenue d'Aïre 42\, 1203 Genève\, 1203 Genève\, Suisse
URL:https://www.geneve-communes.ch/agenda/soiree-jeux-0
DTSTART;TZID=Europe/Zurich:20260529T200000
DTEND;TZID=Europe/Zurich:20260529T223000
GEO:46.207513;6.12187
X-APPLE-STRUCTURED-LOCATION;VALUE=URI;X-ADDRESS=Avenue d'Aïre 42\, 1203 Ge
 nève\, 1203 Genève\, Suisse;X-APPLE-RADIUS=72;X-TITLE=Ludothèque «1-2-
 3 ... Planète!»:geo:46.207513,6.12187
END:VEVENT
END:VCALENDAR