BEGIN:VCALENDAR
VERSION:2.0
PRODID:-//Les communes genevoises//Agenda//FR
NAME:Les communes genevoises
X-WR-CALNAME:Les communes genevoises
BEGIN:VTIMEZONE
TZID:Europe/Zurich
BEGIN:STANDARD
DTSTART:20251026T030000
TZOFFSETFROM:+0200
TZOFFSETTO:+0100
END:STANDARD
BEGIN:DAYLIGHT
DTSTART:20260329T010000
TZOFFSETFROM:+0100
TZOFFSETTO:+0200
END:DAYLIGHT
BEGIN:STANDARD
DTSTART:20261025T030000
TZOFFSETFROM:+0200
TZOFFSETTO:+0100
END:STANDARD
END:VTIMEZONE
BEGIN:VTIMEZONE
TZID:UTC
BEGIN:STANDARD
DTSTART:20250716T083600
TZOFFSETFROM:+0000
TZOFFSETTO:+0000
END:STANDARD
END:VTIMEZONE
BEGIN:VEVENT
UID:93d1f639-5bd4-4f4e-a643-b99fb87c471b-0
DTSTAMP:20260412T083600Z
SUMMARY:Paix - Tiphanie Bovay-Klameth
DESCRIPTION:\"Paix\" de Tiphanie Bovay-Klameth à la Maison Saint-Gervais d
 u 27 au 31 mai 2026
LOCATION:Rue du Temple 5 1201 Genève\, Suisse\, 1201 Genève\, Suisse
URL:https://www.geneve-communes.ch/agenda/paix-tiphanie-bovay-klameth
DTSTART;TZID=Europe/Zurich:20260527T190000
DTEND;TZID=Europe/Zurich:20260527T200000
GEO:46.206263;6.14053
X-APPLE-STRUCTURED-LOCATION;VALUE=URI;X-ADDRESS=Rue du Temple 5 1201 Genèv
 e\, Suisse\, 1201 Genève\, Suisse;X-APPLE-RADIUS=72;X-TITLE=Saint-Gervais
  Genève:geo:46.206263,6.14053
END:VEVENT
BEGIN:VEVENT
UID:93d1f639-5bd4-4f4e-a643-b99fb87c471b-1
DTSTAMP:20260412T083600Z
SUMMARY:Paix - Tiphanie Bovay-Klameth
DESCRIPTION:\"Paix\" de Tiphanie Bovay-Klameth à la Maison Saint-Gervais d
 u 27 au 31 mai 2026
LOCATION:Rue du Temple 5 1201 Genève\, Suisse\, 1201 Genève\, Suisse
URL:https://www.geneve-communes.ch/agenda/paix-tiphanie-bovay-klameth
DTSTART;TZID=Europe/Zurich:20260528T190000
DTEND;TZID=Europe/Zurich:20260528T200000
GEO:46.206263;6.14053
X-APPLE-STRUCTURED-LOCATION;VALUE=URI;X-ADDRESS=Rue du Temple 5 1201 Genèv
 e\, Suisse\, 1201 Genève\, Suisse;X-APPLE-RADIUS=72;X-TITLE=Saint-Gervais
  Genève:geo:46.206263,6.14053
END:VEVENT
BEGIN:VEVENT
UID:93d1f639-5bd4-4f4e-a643-b99fb87c471b-2
DTSTAMP:20260412T083600Z
SUMMARY:Paix - Tiphanie Bovay-Klameth
DESCRIPTION:\"Paix\" de Tiphanie Bovay-Klameth à la Maison Saint-Gervais d
 u 27 au 31 mai 2026
LOCATION:Rue du Temple 5 1201 Genève\, Suisse\, 1201 Genève\, Suisse
URL:https://www.geneve-communes.ch/agenda/paix-tiphanie-bovay-klameth
DTSTART;TZID=Europe/Zurich:20260529T203000
DTEND;TZID=Europe/Zurich:20260529T213000
GEO:46.206263;6.14053
X-APPLE-STRUCTURED-LOCATION;VALUE=URI;X-ADDRESS=Rue du Temple 5 1201 Genèv
 e\, Suisse\, 1201 Genève\, Suisse;X-APPLE-RADIUS=72;X-TITLE=Saint-Gervais
  Genève:geo:46.206263,6.14053
END:VEVENT
BEGIN:VEVENT
UID:93d1f639-5bd4-4f4e-a643-b99fb87c471b-3
DTSTAMP:20260412T083600Z
SUMMARY:Paix - Tiphanie Bovay-Klameth
DESCRIPTION:\"Paix\" de Tiphanie Bovay-Klameth à la Maison Saint-Gervais d
 u 27 au 31 mai 2026
LOCATION:Rue du Temple 5 1201 Genève\, Suisse\, 1201 Genève\, Suisse
URL:https://www.geneve-communes.ch/agenda/paix-tiphanie-bovay-klameth
DTSTART;TZID=Europe/Zurich:20260530T190000
DTEND;TZID=Europe/Zurich:20260530T200000
GEO:46.206263;6.14053
X-APPLE-STRUCTURED-LOCATION;VALUE=URI;X-ADDRESS=Rue du Temple 5 1201 Genèv
 e\, Suisse\, 1201 Genève\, Suisse;X-APPLE-RADIUS=72;X-TITLE=Saint-Gervais
  Genève:geo:46.206263,6.14053
END:VEVENT
BEGIN:VEVENT
UID:93d1f639-5bd4-4f4e-a643-b99fb87c471b-4
DTSTAMP:20260412T083600Z
SUMMARY:Paix - Tiphanie Bovay-Klameth
DESCRIPTION:\"Paix\" de Tiphanie Bovay-Klameth à la Maison Saint-Gervais d
 u 27 au 31 mai 2026
LOCATION:Rue du Temple 5 1201 Genève\, Suisse\, 1201 Genève\, Suisse
URL:https://www.geneve-communes.ch/agenda/paix-tiphanie-bovay-klameth
DTSTART;TZID=Europe/Zurich:20260531T170000
DTEND;TZID=Europe/Zurich:20260531T180000
GEO:46.206263;6.14053
X-APPLE-STRUCTURED-LOCATION;VALUE=URI;X-ADDRESS=Rue du Temple 5 1201 Genèv
 e\, Suisse\, 1201 Genève\, Suisse;X-APPLE-RADIUS=72;X-TITLE=Saint-Gervais
  Genève:geo:46.206263,6.14053
END:VEVENT
END:VCALENDAR