BEGIN:VCALENDAR
VERSION:2.0
PRODID:-//Les communes genevoises//Agenda//FR
NAME:Les communes genevoises
X-WR-CALNAME:Les communes genevoises
BEGIN:VTIMEZONE
TZID:Europe/Zurich
BEGIN:STANDARD
DTSTART:20251026T030000
TZOFFSETFROM:+0200
TZOFFSETTO:+0100
END:STANDARD
BEGIN:DAYLIGHT
DTSTART:20260329T010000
TZOFFSETFROM:+0100
TZOFFSETTO:+0200
END:DAYLIGHT
BEGIN:STANDARD
DTSTART:20261025T030000
TZOFFSETFROM:+0200
TZOFFSETTO:+0100
END:STANDARD
END:VTIMEZONE
BEGIN:VTIMEZONE
TZID:UTC
BEGIN:STANDARD
DTSTART:20250716T083400
TZOFFSETFROM:+0000
TZOFFSETTO:+0000
END:STANDARD
END:VTIMEZONE
BEGIN:VEVENT
UID:6b6c84bc-96c9-4182-974b-bb27057096c8-0
DTSTAMP:20260412T083400Z
SUMMARY:Looooooongue
DESCRIPTION:Du théâtre en extérieur\, musical et poilu\, un hommage à l
 a chienne qui fut la plus looooooongue du monde !
LOCATION:Route de Frontenex 56\, 1207 Genève\, 1207 Genève\, Suisse
URL:https://www.geneve-communes.ch/agenda/looooooongue
DTSTART;TZID=Europe/Zurich:20260509T110000
DTEND;TZID=Europe/Zurich:20260509T114000
GEO:46.201784;6.162724
X-APPLE-STRUCTURED-LOCATION;VALUE=URI;X-ADDRESS=Route de Frontenex 56\, 120
 7 Genève\, 1207 Genève\, Suisse;X-APPLE-RADIUS=72;X-TITLE=Théâtre Am S
 tram Gram:geo:46.201784,6.162724
END:VEVENT
BEGIN:VEVENT
UID:6b6c84bc-96c9-4182-974b-bb27057096c8-1
DTSTAMP:20260412T083400Z
SUMMARY:Looooooongue
DESCRIPTION:Du théâtre en extérieur\, musical et poilu\, un hommage à l
 a chienne qui fut la plus looooooongue du monde !
LOCATION:Route de Frontenex 56\, 1207 Genève\, 1207 Genève\, Suisse
URL:https://www.geneve-communes.ch/agenda/looooooongue
DTSTART;TZID=Europe/Zurich:20260509T170000
DTEND;TZID=Europe/Zurich:20260509T174000
GEO:46.201784;6.162724
X-APPLE-STRUCTURED-LOCATION;VALUE=URI;X-ADDRESS=Route de Frontenex 56\, 120
 7 Genève\, 1207 Genève\, Suisse;X-APPLE-RADIUS=72;X-TITLE=Théâtre Am S
 tram Gram:geo:46.201784,6.162724
END:VEVENT
BEGIN:VEVENT
UID:6b6c84bc-96c9-4182-974b-bb27057096c8-2
DTSTAMP:20260412T083400Z
SUMMARY:Looooooongue
DESCRIPTION:Du théâtre en extérieur\, musical et poilu\, un hommage à l
 a chienne qui fut la plus looooooongue du monde !
LOCATION:Route de Frontenex 56\, 1207 Genève\, 1207 Genève\, Suisse
URL:https://www.geneve-communes.ch/agenda/looooooongue
DTSTART;TZID=Europe/Zurich:20260510T170000
DTEND;TZID=Europe/Zurich:20260510T174000
GEO:46.201784;6.162724
X-APPLE-STRUCTURED-LOCATION;VALUE=URI;X-ADDRESS=Route de Frontenex 56\, 120
 7 Genève\, 1207 Genève\, Suisse;X-APPLE-RADIUS=72;X-TITLE=Théâtre Am S
 tram Gram:geo:46.201784,6.162724
END:VEVENT
END:VCALENDAR