BEGIN:VCALENDAR
VERSION:2.0
PRODID:-//Les communes genevoises//Agenda//FR
NAME:Les communes genevoises
X-WR-CALNAME:Les communes genevoises
BEGIN:VTIMEZONE
TZID:Europe/Zurich
BEGIN:DAYLIGHT
DTSTART:20250330T010000
TZOFFSETFROM:+0100
TZOFFSETTO:+0200
END:DAYLIGHT
BEGIN:STANDARD
DTSTART:20251026T030000
TZOFFSETFROM:+0200
TZOFFSETTO:+0100
END:STANDARD
BEGIN:DAYLIGHT
DTSTART:20260329T010000
TZOFFSETFROM:+0100
TZOFFSETTO:+0200
END:DAYLIGHT
BEGIN:STANDARD
DTSTART:20261025T030000
TZOFFSETFROM:+0200
TZOFFSETTO:+0100
END:STANDARD
END:VTIMEZONE
BEGIN:VTIMEZONE
TZID:UTC
BEGIN:STANDARD
DTSTART:20250716T083400
TZOFFSETFROM:+0000
TZOFFSETTO:+0000
END:STANDARD
END:VTIMEZONE
BEGIN:VEVENT
UID:51b68bb4-fedc-4be6-9958-d3fad6fcf7e0-0
DTSTAMP:20260412T083400Z
SUMMARY:L'IMMENSE GALA par la troupe du doublage improvisé
DESCRIPTION:Vous connaissez leurs voix grâce aux doublages improvisés\, d
 écouvrez-les en entier\, en vrai et en mouvement sur scène. Retrouvez to
 ute la troupe du doublage improvisé dans notre tout nouveau spectacle
LOCATION:Rue de la Madeleine 10\, 1204 Genève\, 1204 Genève\, Suisse
URL:https://www.geneve-communes.ch/agenda/limmense-gala-par-la-troupe-du-do
 ublage-improvise
DTSTART;TZID=Europe/Zurich:20251031T200000
DTEND;TZID=Europe/Zurich:20251031T220000
GEO:46.202199;6.148666
X-APPLE-STRUCTURED-LOCATION;VALUE=URI;X-ADDRESS=Rue de la Madeleine 10\, 12
 04 Genève\, 1204 Genève\, Suisse;X-APPLE-RADIUS=72;X-TITLE=Salle Central
 e de la Madeleine:geo:46.202199,6.148666
END:VEVENT
BEGIN:VEVENT
UID:51b68bb4-fedc-4be6-9958-d3fad6fcf7e0-1
DTSTAMP:20260412T083400Z
SUMMARY:L'IMMENSE GALA par la troupe du doublage improvisé
DESCRIPTION:Vous connaissez leurs voix grâce aux doublages improvisés\, d
 écouvrez-les en entier\, en vrai et en mouvement sur scène. Retrouvez to
 ute la troupe du doublage improvisé dans notre tout nouveau spectacle
LOCATION:Rue de la Madeleine 10\, 1204 Genève\, 1204 Genève\, Suisse
URL:https://www.geneve-communes.ch/agenda/limmense-gala-par-la-troupe-du-do
 ublage-improvise
DTSTART;TZID=Europe/Zurich:20251219T200000
DTEND;TZID=Europe/Zurich:20251219T220000
GEO:46.202199;6.148666
X-APPLE-STRUCTURED-LOCATION;VALUE=URI;X-ADDRESS=Rue de la Madeleine 10\, 12
 04 Genève\, 1204 Genève\, Suisse;X-APPLE-RADIUS=72;X-TITLE=Salle Central
 e de la Madeleine:geo:46.202199,6.148666
END:VEVENT
BEGIN:VEVENT
UID:51b68bb4-fedc-4be6-9958-d3fad6fcf7e0-2
DTSTAMP:20260412T083400Z
SUMMARY:L'IMMENSE GALA par la troupe du doublage improvisé
DESCRIPTION:Vous connaissez leurs voix grâce aux doublages improvisés\, d
 écouvrez-les en entier\, en vrai et en mouvement sur scène. Retrouvez to
 ute la troupe du doublage improvisé dans notre tout nouveau spectacle
LOCATION:Rue de la Madeleine 10\, 1204 Genève\, 1204 Genève\, Suisse
URL:https://www.geneve-communes.ch/agenda/limmense-gala-par-la-troupe-du-do
 ublage-improvise
DTSTART;TZID=Europe/Zurich:20260212T200000
DTEND;TZID=Europe/Zurich:20260212T220000
GEO:46.202199;6.148666
X-APPLE-STRUCTURED-LOCATION;VALUE=URI;X-ADDRESS=Rue de la Madeleine 10\, 12
 04 Genève\, 1204 Genève\, Suisse;X-APPLE-RADIUS=72;X-TITLE=Salle Central
 e de la Madeleine:geo:46.202199,6.148666
END:VEVENT
BEGIN:VEVENT
UID:51b68bb4-fedc-4be6-9958-d3fad6fcf7e0-3
DTSTAMP:20260412T083400Z
SUMMARY:L'IMMENSE GALA par la troupe du doublage improvisé
DESCRIPTION:Vous connaissez leurs voix grâce aux doublages improvisés\, d
 écouvrez-les en entier\, en vrai et en mouvement sur scène. Retrouvez to
 ute la troupe du doublage improvisé dans notre tout nouveau spectacle
LOCATION:Rue de la Madeleine 10\, 1204 Genève\, 1204 Genève\, Suisse
URL:https://www.geneve-communes.ch/agenda/limmense-gala-par-la-troupe-du-do
 ublage-improvise
DTSTART;TZID=Europe/Zurich:20260507T200000
DTEND;TZID=Europe/Zurich:20260507T220000
GEO:46.202199;6.148666
X-APPLE-STRUCTURED-LOCATION;VALUE=URI;X-ADDRESS=Rue de la Madeleine 10\, 12
 04 Genève\, 1204 Genève\, Suisse;X-APPLE-RADIUS=72;X-TITLE=Salle Central
 e de la Madeleine:geo:46.202199,6.148666
END:VEVENT
END:VCALENDAR