BEGIN:VCALENDAR
VERSION:2.0
PRODID:-//Les communes genevoises//Agenda//FR
NAME:Les communes genevoises
X-WR-CALNAME:Les communes genevoises
BEGIN:VTIMEZONE
TZID:Europe/Zurich
BEGIN:STANDARD
DTSTART:20251026T030000
TZOFFSETFROM:+0200
TZOFFSETTO:+0100
END:STANDARD
BEGIN:DAYLIGHT
DTSTART:20260329T010000
TZOFFSETFROM:+0100
TZOFFSETTO:+0200
END:DAYLIGHT
BEGIN:STANDARD
DTSTART:20261025T030000
TZOFFSETFROM:+0200
TZOFFSETTO:+0100
END:STANDARD
END:VTIMEZONE
BEGIN:VTIMEZONE
TZID:UTC
BEGIN:STANDARD
DTSTART:20250716T083200
TZOFFSETFROM:+0000
TZOFFSETTO:+0000
END:STANDARD
END:VTIMEZONE
BEGIN:VEVENT
UID:b15f4bee-db01-4fe0-9892-7563d5405a1d-0
DTSTAMP:20260412T083200Z
SUMMARY:AGORA
DESCRIPTION:Pour terminer sa saison avec éclat\, GECA reçoit l’icône d
 u hip-hop zambien\, la rappeuse Sampa The Great !
LOCATION:Place des Volontaires 2\, 1204 Genève\, 1204 Genève\, Suisse
URL:https://www.geneve-communes.ch/agenda/agora
DTSTART;TZID=Europe/Zurich:20260505T200000
DTEND;TZID=Europe/Zurich:20260505T220000
GEO:46.20421;6.136675
X-APPLE-STRUCTURED-LOCATION;VALUE=URI;X-ADDRESS=Place des Volontaires 2\, 1
 204 Genève\, 1204 Genève\, Suisse;X-APPLE-RADIUS=72;X-TITLE=BFM - Bâtim
 ent des Forces Motrices:geo:46.20421,6.136675
END:VEVENT
END:VCALENDAR