BEGIN:VCALENDAR
VERSION:2.0
PRODID:-//Les communes genevoises//Agenda//FR
NAME:Les communes genevoises
X-WR-CALNAME:Les communes genevoises
BEGIN:VTIMEZONE
TZID:Europe/Zurich
BEGIN:STANDARD
DTSTART:20251026T030000
TZOFFSETFROM:+0200
TZOFFSETTO:+0100
END:STANDARD
BEGIN:DAYLIGHT
DTSTART:20260329T010000
TZOFFSETFROM:+0100
TZOFFSETTO:+0200
END:DAYLIGHT
BEGIN:STANDARD
DTSTART:20261025T030000
TZOFFSETFROM:+0200
TZOFFSETTO:+0100
END:STANDARD
END:VTIMEZONE
BEGIN:VTIMEZONE
TZID:UTC
BEGIN:STANDARD
DTSTART:20250727T153400
TZOFFSETFROM:+0000
TZOFFSETTO:+0000
END:STANDARD
END:VTIMEZONE
BEGIN:VEVENT
UID:f1c63a8f-40f8-4ed1-9a04-ae8fe5b59e25-0
DTSTAMP:20260423T153400Z
SUMMARY:Pop-up Cirkus | Théâtre L'Articule
DESCRIPTION:Mercredi 29 avril à 15h | Théâtre d'objets
LOCATION:7-9 Avenue Louis Bertrand\, 1213 Lancy\, Suisse
URL:https://www.geneve-communes.ch/agenda/pop-cirkus-theatre-larticule
DTSTART;TZID=Europe/Zurich:20260429T150000
DTEND;TZID=Europe/Zurich:20260429T153000
GEO:46.191115;6.115393
X-APPLE-STRUCTURED-LOCATION;VALUE=URI;X-ADDRESS=7-9 Avenue Louis Bertrand\,
  1213 Lancy\, Suisse;X-APPLE-RADIUS=72;X-TITLE=Salle communale du Petit-La
 ncy:geo:46.191115,6.115393
END:VEVENT
END:VCALENDAR