BEGIN:VCALENDAR
VERSION:2.0
PRODID:-//Les communes genevoises//Agenda//FR
NAME:Les communes genevoises
X-WR-CALNAME:Les communes genevoises
BEGIN:VTIMEZONE
TZID:Europe/Zurich
BEGIN:STANDARD
DTSTART:20251026T030000
TZOFFSETFROM:+0200
TZOFFSETTO:+0100
END:STANDARD
BEGIN:DAYLIGHT
DTSTART:20260329T010000
TZOFFSETFROM:+0100
TZOFFSETTO:+0200
END:DAYLIGHT
BEGIN:STANDARD
DTSTART:20261025T030000
TZOFFSETFROM:+0200
TZOFFSETTO:+0100
END:STANDARD
END:VTIMEZONE
BEGIN:VTIMEZONE
TZID:UTC
BEGIN:STANDARD
DTSTART:20250716T083001
TZOFFSETFROM:+0000
TZOFFSETTO:+0000
END:STANDARD
END:VTIMEZONE
BEGIN:VEVENT
UID:ef0b6462-5849-485c-b0c4-5b31c702f53b-0
DTSTAMP:20260412T083001Z
SUMMARY:Coeur d'amour
DESCRIPTION:Avec les dessins de l'illustratrice Albertine\, une célébrati
 on de l’intensité des sentiments de la petite-enfance.
LOCATION:Route de Frontenex 56\, 1207 Genève\, 1207 Genève\, Suisse
URL:https://www.geneve-communes.ch/agenda/coeur-damour
DTSTART;TZID=Europe/Zurich:20260425T110000
DTEND;TZID=Europe/Zurich:20260425T114000
GEO:46.201784;6.162724
X-APPLE-STRUCTURED-LOCATION;VALUE=URI;X-ADDRESS=Route de Frontenex 56\, 120
 7 Genève\, 1207 Genève\, Suisse;X-APPLE-RADIUS=72;X-TITLE=Théâtre Am S
 tram Gram:geo:46.201784,6.162724
END:VEVENT
BEGIN:VEVENT
UID:ef0b6462-5849-485c-b0c4-5b31c702f53b-1
DTSTAMP:20260412T083001Z
SUMMARY:Coeur d'amour
DESCRIPTION:Avec les dessins de l'illustratrice Albertine\, une célébrati
 on de l’intensité des sentiments de la petite-enfance.
LOCATION:Route de Frontenex 56\, 1207 Genève\, 1207 Genève\, Suisse
URL:https://www.geneve-communes.ch/agenda/coeur-damour
DTSTART;TZID=Europe/Zurich:20260425T170000
DTEND;TZID=Europe/Zurich:20260425T174000
GEO:46.201784;6.162724
X-APPLE-STRUCTURED-LOCATION;VALUE=URI;X-ADDRESS=Route de Frontenex 56\, 120
 7 Genève\, 1207 Genève\, Suisse;X-APPLE-RADIUS=72;X-TITLE=Théâtre Am S
 tram Gram:geo:46.201784,6.162724
END:VEVENT
BEGIN:VEVENT
UID:ef0b6462-5849-485c-b0c4-5b31c702f53b-2
DTSTAMP:20260412T083001Z
SUMMARY:Coeur d'amour
DESCRIPTION:Avec les dessins de l'illustratrice Albertine\, une célébrati
 on de l’intensité des sentiments de la petite-enfance.
LOCATION:Route de Frontenex 56\, 1207 Genève\, 1207 Genève\, Suisse
URL:https://www.geneve-communes.ch/agenda/coeur-damour
DTSTART;TZID=Europe/Zurich:20260426T110000
DTEND;TZID=Europe/Zurich:20260426T114000
GEO:46.201784;6.162724
X-APPLE-STRUCTURED-LOCATION;VALUE=URI;X-ADDRESS=Route de Frontenex 56\, 120
 7 Genève\, 1207 Genève\, Suisse;X-APPLE-RADIUS=72;X-TITLE=Théâtre Am S
 tram Gram:geo:46.201784,6.162724
END:VEVENT
BEGIN:VEVENT
UID:ef0b6462-5849-485c-b0c4-5b31c702f53b-3
DTSTAMP:20260412T083001Z
SUMMARY:Coeur d'amour
DESCRIPTION:Avec les dessins de l'illustratrice Albertine\, une célébrati
 on de l’intensité des sentiments de la petite-enfance.
LOCATION:Route de Frontenex 56\, 1207 Genève\, 1207 Genève\, Suisse
URL:https://www.geneve-communes.ch/agenda/coeur-damour
DTSTART;TZID=Europe/Zurich:20260426T170000
DTEND;TZID=Europe/Zurich:20260426T174000
GEO:46.201784;6.162724
X-APPLE-STRUCTURED-LOCATION;VALUE=URI;X-ADDRESS=Route de Frontenex 56\, 120
 7 Genève\, 1207 Genève\, Suisse;X-APPLE-RADIUS=72;X-TITLE=Théâtre Am S
 tram Gram:geo:46.201784,6.162724
END:VEVENT
BEGIN:VEVENT
UID:ef0b6462-5849-485c-b0c4-5b31c702f53b-4
DTSTAMP:20260412T083001Z
SUMMARY:Coeur d'amour
DESCRIPTION:Avec les dessins de l'illustratrice Albertine\, une célébrati
 on de l’intensité des sentiments de la petite-enfance.
LOCATION:Route de Frontenex 56\, 1207 Genève\, 1207 Genève\, Suisse
URL:https://www.geneve-communes.ch/agenda/coeur-damour
DTSTART;TZID=Europe/Zurich:20260429T100000
DTEND;TZID=Europe/Zurich:20260429T104000
GEO:46.201784;6.162724
X-APPLE-STRUCTURED-LOCATION;VALUE=URI;X-ADDRESS=Route de Frontenex 56\, 120
 7 Genève\, 1207 Genève\, Suisse;X-APPLE-RADIUS=72;X-TITLE=Théâtre Am S
 tram Gram:geo:46.201784,6.162724
END:VEVENT
BEGIN:VEVENT
UID:ef0b6462-5849-485c-b0c4-5b31c702f53b-5
DTSTAMP:20260412T083001Z
SUMMARY:Coeur d'amour
DESCRIPTION:Avec les dessins de l'illustratrice Albertine\, une célébrati
 on de l’intensité des sentiments de la petite-enfance.
LOCATION:Route de Frontenex 56\, 1207 Genève\, 1207 Genève\, Suisse
URL:https://www.geneve-communes.ch/agenda/coeur-damour
DTSTART;TZID=Europe/Zurich:20260502T110000
DTEND;TZID=Europe/Zurich:20260502T114000
GEO:46.201784;6.162724
X-APPLE-STRUCTURED-LOCATION;VALUE=URI;X-ADDRESS=Route de Frontenex 56\, 120
 7 Genève\, 1207 Genève\, Suisse;X-APPLE-RADIUS=72;X-TITLE=Théâtre Am S
 tram Gram:geo:46.201784,6.162724
END:VEVENT
BEGIN:VEVENT
UID:ef0b6462-5849-485c-b0c4-5b31c702f53b-6
DTSTAMP:20260412T083001Z
SUMMARY:Coeur d'amour
DESCRIPTION:Avec les dessins de l'illustratrice Albertine\, une célébrati
 on de l’intensité des sentiments de la petite-enfance.
LOCATION:Route de Frontenex 56\, 1207 Genève\, 1207 Genève\, Suisse
URL:https://www.geneve-communes.ch/agenda/coeur-damour
DTSTART;TZID=Europe/Zurich:20260502T170000
DTEND;TZID=Europe/Zurich:20260502T174000
GEO:46.201784;6.162724
X-APPLE-STRUCTURED-LOCATION;VALUE=URI;X-ADDRESS=Route de Frontenex 56\, 120
 7 Genève\, 1207 Genève\, Suisse;X-APPLE-RADIUS=72;X-TITLE=Théâtre Am S
 tram Gram:geo:46.201784,6.162724
END:VEVENT
BEGIN:VEVENT
UID:ef0b6462-5849-485c-b0c4-5b31c702f53b-7
DTSTAMP:20260412T083001Z
SUMMARY:Coeur d'amour
DESCRIPTION:Avec les dessins de l'illustratrice Albertine\, une célébrati
 on de l’intensité des sentiments de la petite-enfance.
LOCATION:Route de Frontenex 56\, 1207 Genève\, 1207 Genève\, Suisse
URL:https://www.geneve-communes.ch/agenda/coeur-damour
DTSTART;TZID=Europe/Zurich:20260503T110000
DTEND;TZID=Europe/Zurich:20260503T114000
GEO:46.201784;6.162724
X-APPLE-STRUCTURED-LOCATION;VALUE=URI;X-ADDRESS=Route de Frontenex 56\, 120
 7 Genève\, 1207 Genève\, Suisse;X-APPLE-RADIUS=72;X-TITLE=Théâtre Am S
 tram Gram:geo:46.201784,6.162724
END:VEVENT
BEGIN:VEVENT
UID:ef0b6462-5849-485c-b0c4-5b31c702f53b-8
DTSTAMP:20260412T083001Z
SUMMARY:Coeur d'amour
DESCRIPTION:Avec les dessins de l'illustratrice Albertine\, une célébrati
 on de l’intensité des sentiments de la petite-enfance.
LOCATION:Route de Frontenex 56\, 1207 Genève\, 1207 Genève\, Suisse
URL:https://www.geneve-communes.ch/agenda/coeur-damour
DTSTART;TZID=Europe/Zurich:20260503T170000
DTEND;TZID=Europe/Zurich:20260503T174000
GEO:46.201784;6.162724
X-APPLE-STRUCTURED-LOCATION;VALUE=URI;X-ADDRESS=Route de Frontenex 56\, 120
 7 Genève\, 1207 Genève\, Suisse;X-APPLE-RADIUS=72;X-TITLE=Théâtre Am S
 tram Gram:geo:46.201784,6.162724
END:VEVENT
END:VCALENDAR