BEGIN:VCALENDAR
VERSION:2.0
PRODID:-//Les communes genevoises//Agenda//FR
NAME:Les communes genevoises
X-WR-CALNAME:Les communes genevoises
BEGIN:VTIMEZONE
TZID:Europe/Zurich
BEGIN:STANDARD
DTSTART:20251026T030000
TZOFFSETFROM:+0200
TZOFFSETTO:+0100
END:STANDARD
BEGIN:DAYLIGHT
DTSTART:20260329T010000
TZOFFSETFROM:+0100
TZOFFSETTO:+0200
END:DAYLIGHT
BEGIN:STANDARD
DTSTART:20261025T030000
TZOFFSETFROM:+0200
TZOFFSETTO:+0100
END:STANDARD
END:VTIMEZONE
BEGIN:VTIMEZONE
TZID:UTC
BEGIN:STANDARD
DTSTART:20250716T083001
TZOFFSETFROM:+0000
TZOFFSETTO:+0000
END:STANDARD
END:VTIMEZONE
BEGIN:VEVENT
UID:843a37bf-ca40-478a-8e3f-a83ee1965274-0
DTSTAMP:20260412T083001Z
SUMMARY:Henry IV
DESCRIPTION:Ici\, les luttes de pouvoir constituent une fresque politique e
 t humaine qui nous tend un miroir d’une rare acuité.
LOCATION:Rue du Général-DUFOUR 16\, 1204 Genève\, 1205 Genève\, Suisse
URL:https://www.geneve-communes.ch/agenda/henry-iv
DTSTART;TZID=Europe/Zurich:20260422T193000
DTEND;TZID=Europe/Zurich:20260422T203000
GEO:46.201084;6.141722
X-APPLE-STRUCTURED-LOCATION;VALUE=URI;X-ADDRESS=Rue du Général-DUFOUR 16\
 , 1204 Genève\, 1205 Genève\, Suisse;X-APPLE-RADIUS=72;X-TITLE=Théâtre
  du Grütli:geo:46.201084,6.141722
END:VEVENT
BEGIN:VEVENT
UID:843a37bf-ca40-478a-8e3f-a83ee1965274-1
DTSTAMP:20260412T083001Z
SUMMARY:Henry IV
DESCRIPTION:Ici\, les luttes de pouvoir constituent une fresque politique e
 t humaine qui nous tend un miroir d’une rare acuité.
LOCATION:Rue du Général-DUFOUR 16\, 1204 Genève\, 1205 Genève\, Suisse
URL:https://www.geneve-communes.ch/agenda/henry-iv
DTSTART;TZID=Europe/Zurich:20260423T193000
DTEND;TZID=Europe/Zurich:20260423T203000
GEO:46.201084;6.141722
X-APPLE-STRUCTURED-LOCATION;VALUE=URI;X-ADDRESS=Rue du Général-DUFOUR 16\
 , 1204 Genève\, 1205 Genève\, Suisse;X-APPLE-RADIUS=72;X-TITLE=Théâtre
  du Grütli:geo:46.201084,6.141722
END:VEVENT
BEGIN:VEVENT
UID:843a37bf-ca40-478a-8e3f-a83ee1965274-2
DTSTAMP:20260412T083001Z
SUMMARY:Henry IV
DESCRIPTION:Ici\, les luttes de pouvoir constituent une fresque politique e
 t humaine qui nous tend un miroir d’une rare acuité.
LOCATION:Rue du Général-DUFOUR 16\, 1204 Genève\, 1205 Genève\, Suisse
URL:https://www.geneve-communes.ch/agenda/henry-iv
DTSTART;TZID=Europe/Zurich:20260424T193000
DTEND;TZID=Europe/Zurich:20260424T203000
GEO:46.201084;6.141722
X-APPLE-STRUCTURED-LOCATION;VALUE=URI;X-ADDRESS=Rue du Général-DUFOUR 16\
 , 1204 Genève\, 1205 Genève\, Suisse;X-APPLE-RADIUS=72;X-TITLE=Théâtre
  du Grütli:geo:46.201084,6.141722
END:VEVENT
BEGIN:VEVENT
UID:843a37bf-ca40-478a-8e3f-a83ee1965274-3
DTSTAMP:20260412T083001Z
SUMMARY:Henry IV
DESCRIPTION:Ici\, les luttes de pouvoir constituent une fresque politique e
 t humaine qui nous tend un miroir d’une rare acuité.
LOCATION:Rue du Général-DUFOUR 16\, 1204 Genève\, 1205 Genève\, Suisse
URL:https://www.geneve-communes.ch/agenda/henry-iv
DTSTART;TZID=Europe/Zurich:20260425T193000
DTEND;TZID=Europe/Zurich:20260425T203000
GEO:46.201084;6.141722
X-APPLE-STRUCTURED-LOCATION;VALUE=URI;X-ADDRESS=Rue du Général-DUFOUR 16\
 , 1204 Genève\, 1205 Genève\, Suisse;X-APPLE-RADIUS=72;X-TITLE=Théâtre
  du Grütli:geo:46.201084,6.141722
END:VEVENT
BEGIN:VEVENT
UID:843a37bf-ca40-478a-8e3f-a83ee1965274-4
DTSTAMP:20260412T083001Z
SUMMARY:Henry IV
DESCRIPTION:Ici\, les luttes de pouvoir constituent une fresque politique e
 t humaine qui nous tend un miroir d’une rare acuité.
LOCATION:Rue du Général-DUFOUR 16\, 1204 Genève\, 1205 Genève\, Suisse
URL:https://www.geneve-communes.ch/agenda/henry-iv
DTSTART;TZID=Europe/Zurich:20260429T193000
DTEND;TZID=Europe/Zurich:20260429T203000
GEO:46.201084;6.141722
X-APPLE-STRUCTURED-LOCATION;VALUE=URI;X-ADDRESS=Rue du Général-DUFOUR 16\
 , 1204 Genève\, 1205 Genève\, Suisse;X-APPLE-RADIUS=72;X-TITLE=Théâtre
  du Grütli:geo:46.201084,6.141722
END:VEVENT
BEGIN:VEVENT
UID:843a37bf-ca40-478a-8e3f-a83ee1965274-5
DTSTAMP:20260412T083001Z
SUMMARY:Henry IV
DESCRIPTION:Ici\, les luttes de pouvoir constituent une fresque politique e
 t humaine qui nous tend un miroir d’une rare acuité.
LOCATION:Rue du Général-DUFOUR 16\, 1204 Genève\, 1205 Genève\, Suisse
URL:https://www.geneve-communes.ch/agenda/henry-iv
DTSTART;TZID=Europe/Zurich:20260430T193000
DTEND;TZID=Europe/Zurich:20260430T203000
GEO:46.201084;6.141722
X-APPLE-STRUCTURED-LOCATION;VALUE=URI;X-ADDRESS=Rue du Général-DUFOUR 16\
 , 1204 Genève\, 1205 Genève\, Suisse;X-APPLE-RADIUS=72;X-TITLE=Théâtre
  du Grütli:geo:46.201084,6.141722
END:VEVENT
BEGIN:VEVENT
UID:843a37bf-ca40-478a-8e3f-a83ee1965274-6
DTSTAMP:20260412T083001Z
SUMMARY:Henry IV
DESCRIPTION:Ici\, les luttes de pouvoir constituent une fresque politique e
 t humaine qui nous tend un miroir d’une rare acuité.
LOCATION:Rue du Général-DUFOUR 16\, 1204 Genève\, 1205 Genève\, Suisse
URL:https://www.geneve-communes.ch/agenda/henry-iv
DTSTART;TZID=Europe/Zurich:20260501T193000
DTEND;TZID=Europe/Zurich:20260501T203000
GEO:46.201084;6.141722
X-APPLE-STRUCTURED-LOCATION;VALUE=URI;X-ADDRESS=Rue du Général-DUFOUR 16\
 , 1204 Genève\, 1205 Genève\, Suisse;X-APPLE-RADIUS=72;X-TITLE=Théâtre
  du Grütli:geo:46.201084,6.141722
END:VEVENT
BEGIN:VEVENT
UID:843a37bf-ca40-478a-8e3f-a83ee1965274-7
DTSTAMP:20260412T083001Z
SUMMARY:Henry IV
DESCRIPTION:Ici\, les luttes de pouvoir constituent une fresque politique e
 t humaine qui nous tend un miroir d’une rare acuité.
LOCATION:Rue du Général-DUFOUR 16\, 1204 Genève\, 1205 Genève\, Suisse
URL:https://www.geneve-communes.ch/agenda/henry-iv
DTSTART;TZID=Europe/Zurich:20260502T193000
DTEND;TZID=Europe/Zurich:20260502T203000
GEO:46.201084;6.141722
X-APPLE-STRUCTURED-LOCATION;VALUE=URI;X-ADDRESS=Rue du Général-DUFOUR 16\
 , 1204 Genève\, 1205 Genève\, Suisse;X-APPLE-RADIUS=72;X-TITLE=Théâtre
  du Grütli:geo:46.201084,6.141722
END:VEVENT
BEGIN:VEVENT
UID:843a37bf-ca40-478a-8e3f-a83ee1965274-8
DTSTAMP:20260412T083001Z
SUMMARY:Henry IV
DESCRIPTION:Ici\, les luttes de pouvoir constituent une fresque politique e
 t humaine qui nous tend un miroir d’une rare acuité.
LOCATION:Rue du Général-DUFOUR 16\, 1204 Genève\, 1205 Genève\, Suisse
URL:https://www.geneve-communes.ch/agenda/henry-iv
DTSTART;TZID=Europe/Zurich:20260506T193000
DTEND;TZID=Europe/Zurich:20260506T203000
GEO:46.201084;6.141722
X-APPLE-STRUCTURED-LOCATION;VALUE=URI;X-ADDRESS=Rue du Général-DUFOUR 16\
 , 1204 Genève\, 1205 Genève\, Suisse;X-APPLE-RADIUS=72;X-TITLE=Théâtre
  du Grütli:geo:46.201084,6.141722
END:VEVENT
BEGIN:VEVENT
UID:843a37bf-ca40-478a-8e3f-a83ee1965274-9
DTSTAMP:20260412T083001Z
SUMMARY:Henry IV
DESCRIPTION:Ici\, les luttes de pouvoir constituent une fresque politique e
 t humaine qui nous tend un miroir d’une rare acuité.
LOCATION:Rue du Général-DUFOUR 16\, 1204 Genève\, 1205 Genève\, Suisse
URL:https://www.geneve-communes.ch/agenda/henry-iv
DTSTART;TZID=Europe/Zurich:20260507T193000
DTEND;TZID=Europe/Zurich:20260507T203000
GEO:46.201084;6.141722
X-APPLE-STRUCTURED-LOCATION;VALUE=URI;X-ADDRESS=Rue du Général-DUFOUR 16\
 , 1204 Genève\, 1205 Genève\, Suisse;X-APPLE-RADIUS=72;X-TITLE=Théâtre
  du Grütli:geo:46.201084,6.141722
END:VEVENT
BEGIN:VEVENT
UID:843a37bf-ca40-478a-8e3f-a83ee1965274-10
DTSTAMP:20260412T083001Z
SUMMARY:Henry IV
DESCRIPTION:Ici\, les luttes de pouvoir constituent une fresque politique e
 t humaine qui nous tend un miroir d’une rare acuité.
LOCATION:Rue du Général-DUFOUR 16\, 1204 Genève\, 1205 Genève\, Suisse
URL:https://www.geneve-communes.ch/agenda/henry-iv
DTSTART;TZID=Europe/Zurich:20260508T193000
DTEND;TZID=Europe/Zurich:20260508T203000
GEO:46.201084;6.141722
X-APPLE-STRUCTURED-LOCATION;VALUE=URI;X-ADDRESS=Rue du Général-DUFOUR 16\
 , 1204 Genève\, 1205 Genève\, Suisse;X-APPLE-RADIUS=72;X-TITLE=Théâtre
  du Grütli:geo:46.201084,6.141722
END:VEVENT
BEGIN:VEVENT
UID:843a37bf-ca40-478a-8e3f-a83ee1965274-11
DTSTAMP:20260412T083001Z
SUMMARY:Henry IV
DESCRIPTION:Ici\, les luttes de pouvoir constituent une fresque politique e
 t humaine qui nous tend un miroir d’une rare acuité.
LOCATION:Rue du Général-DUFOUR 16\, 1204 Genève\, 1205 Genève\, Suisse
URL:https://www.geneve-communes.ch/agenda/henry-iv
DTSTART;TZID=Europe/Zurich:20260509T193000
DTEND;TZID=Europe/Zurich:20260509T203000
GEO:46.201084;6.141722
X-APPLE-STRUCTURED-LOCATION;VALUE=URI;X-ADDRESS=Rue du Général-DUFOUR 16\
 , 1204 Genève\, 1205 Genève\, Suisse;X-APPLE-RADIUS=72;X-TITLE=Théâtre
  du Grütli:geo:46.201084,6.141722
END:VEVENT
END:VCALENDAR